Workbook
Name _MailEndCompose: 'Monthly DQ Notes'!#REF!
Name ad_hospital: #REF!
Name baseline: #REF!
Name current: #REF!
Name currentperiod: #REF!
Name data: #REF!
Name facility_list: #REF!
Name facility_number: #REF!
Name Hosp_name: #REF!
Name LastDay: #REF!
Name LHIN_LIST: #REF!
Name LHIN_NUMBER: #REF!
Name lookup: #REF!
Name lookupc: #REF!
Name lookupr: #REF!
Name masterfile: #REF!
Name open: #REF!
Name previous: #REF!
Name previousperiod: #REF!
Name previouspreviousperiod: #REF!
Name site: #REF!

Sheet Title Page
C10: Emergency Department
C14: Data Quality Notes (NACRS) - Up to October 2025 data
C15: Facility Level
C29: Prepared by: Data Quality & Compliance

Sheet Monthly DQ Notes
B3: ED Data Quality Notes
B4: Reporting Period: October data
B5: Data Source: CIHI NACRS
B6: Please see the table below regarding which months of data are refreshed in this report:
B7: Fiscal Year of ED Data | C7: Month of ED Data | D7: NACRS submission deadline date | E7: Historical Data Refreshed
B8: FY 2022-23 | C8: April 2022 - March 2023 | D8: May 31, 2023 | E8: No
B9: FY 2023-24 | C9: April 2023 - March 2024 | D9: May 31, 2024 | E9: No
B10: FY 2024-25 | C10: April 2024 - March 2025 | D10: May 31, 2025 | E10: No
B11: FY 2025-26 | C11: April - October 2025 | D11: November 17, 2025 | E11: Yes
B12: Important Notes: 1. The data quality designations and data quality notes pertain to the monthly ED data submitted by facilities to CIHI on the 10th business day of the month and received by Ontario Health on the 12th business day of the month following the reporting period. The data quality designations are displayed for all historic months (except for percent usable records to calculate wait times, which are applied automatically as RI in the performance reports) and the data quality notes are displayed for the most recent reporting month. 2. Sites that are identified as RI (Reporting Issue) will not have ED data shown in the report. However, the ED data for sites identified as RI (Reporting Issue) will be included in their respective Region and Sub-region as well as overall provincial ED information. In addition, NS (No Service) designation was given to facilities that are not required to report or no service offered. 3. Please note that the data quality and compliance process for ED data is performed at the site level, and that this data issue may affect results at the Facility/Sub-region/Region/Provincial level.
B13: Current Open Fiscal Year
A14: Date | B14: Data Month | C14: Site Name | D14: Site Number | E14: Region | F14: Data Quality Notes | G14: Designation | H14: Indicator | I14: Indicator Short Name | J14: Type | K14: site number | L14: p4r | M14: lhin name | N14: lhin number | O14: cdu | P14: Info
A15: =B15 -> 45931 | B15: 45931 | C15: Blanche River Health-Englehart | D15: 5533 | E15: North East | F15: Data Stabilization Period | G15: RI | H15: Reported ED volumes | I15: VOL | J15: DQ_VOL | K15: 5533 | L15: =VLOOKUP($K15,sitelist!$A:$N,14,FALSE) -> Small | M15: North East | N15: 13 | O15: No
A16: =B16 -> 45931 | B16: 45931 | C16: Blanche River Health-Kirkland | D16: 5538 | E16: North East | F16: Data Stabilization Period | G16: RI | H16: Reported ED volumes | I16: VOL | J16: DQ_VOL | K16: 5538 | L16: =VLOOKUP($K16,sitelist!$A:$N,14,FALSE) -> Small | M16: North East | N16: 13 | O16: No
A17: =B17 -> 45931 | B17: 45931 | C17: Brant Community Healthcare Sys-Brantford | D17: 4679 | E17: West | F17: Data confirmed as inaccurate | G17: RI | H17: Reported ED volumes | I17: VOL | J17: DQ_VOL | K17: 4679 | L17: =VLOOKUP($K17,sitelist!$A:$N,14,FALSE) -> Large | M17: Hamilton Niagara Haldimand Brant | N17: 4 | O17: Yes
A18: =B18 -> 45931 | B18: 45931 | C18: Perth and Smiths Falls Dist-Perth Site | D18: 4251 | E18: East | F18: Data was not submitted by the deadline | G18: RI | H18: Reported ED volumes | I18: VOL | J18: DQ_VOL | K18: 4251 | L18: =VLOOKUP($K18,sitelist!$A:$N,14,FALSE) -> Small | M18: South East | N18: 10 | O18: No
A19: =B19 -> 45931 | B19: 45931 | C19: Perth and Smiths Falls Dist-Smiths Falls | D19: 4316 | E19: East | F19: Data was not submitted by the deadline | G19: RI | H19: Reported ED volumes | I19: VOL | J19: DQ_VOL | K19: 4316 | L19: =VLOOKUP($K19,sitelist!$A:$N,14,FALSE) -> Small | M19: South East | N19: 10 | O19: No
A20: =B20 -> 45931 | B20: 45931 | C20: Sante Manitouwadge Health | D20: 4166 | E20: North West | F20: Data was not submitted by the deadline | G20: RI | H20: Reported ED volumes | I20: VOL | J20: DQ_VOL | K20: 4166 | L20: =VLOOKUP($K20,sitelist!$A:$N,14,FALSE) -> Small | M20: North West | N20: 14 | O20: No
A21: =B21 -> 45931 | B21: 45931 | C21: Smooth Rock Falls Hospital | D21: 4195 | E21: North East | F21: Data Stabilization Period | G21: RI | H21: Reported ED volumes | I21: VOL | J21: DQ_VOL | K21: 4195 | L21: =VLOOKUP($K21,sitelist!$A:$N,14,FALSE) -> Small | M21: North East | N21: 13 | O21: No
A22: =B22 -> 45931 | B22: 45931 | C22: Weeneebayko Area Hlth Auth-Moose Factory | D22: 4699 | E22: North East | F22: Data Stabilization Period | G22: RI | H22: Reported ED volumes | I22: VOL | J22: DQ_VOL | K22: 4699 | L22: =VLOOKUP($K22,sitelist!$A:$N,14,FALSE) -> Small | M22: North East | N22: 13 | O22: No
A23: =B23 -> 45931 | B23: 45931 | C23: Wingham and District Hospital | D23: 4114 | E23: West | F23: Data was not submitted by the deadline | G23: RI | H23: Reported ED volumes | I23: VOL | J23: DQ_VOL | K23: 4114 | L23: =VLOOKUP($K23,sitelist!$A:$N,14,FALSE) -> Small | M23: South West | N23: 2 | O23: No
A24: =B24 -> 45931 | B24: 45931 | C24: Hanover and District Hospital | D24: 4189 | E24: West | F24: Insufficent number of usable records | G24: RI | H24: Time to Disposition Decision | I24: Usability_DISP | J24: DQ_IPB | K24: 4189 | L24: =VLOOKUP($K24,sitelist!$A:$N,14,FALSE) -> Small | M24: South West | N24: 2 | O24: No
A25: =B25 -> 45931 | B25: 45931 | C25: Haldimand War Memorial Hospital | D25: 4070 | E25: West | F25: Data Quality concerns | G25: RI | H25: Time to Inpatient Bed | I25: P4R_IPB | J25: DQ_IPB | K25: 4070 | L25: =VLOOKUP($K25,sitelist!$A:$N,14,FALSE) -> Small | M25: Hamilton Niagara Haldimand Brant | N25: 4 | O25: No
A26: =B26 -> 45931 | B26: 45931 | C26: Sinai Health System-Mount Sinai Site | D26: 4805 | E26: Toronto | F26: Data confirmed as inaccurate | G26: RI | H26: Time to Inpatient Bed | I26: Usability_IPB | J26: DQ_IPB | K26: 4805 | L26: =VLOOKUP($K26,sitelist!$A:$N,14,FALSE) -> Large | M26: Toronto Central | N26: 7 | O26: Yes
... A50: =B50 -> 45931 | B50: 45931 | C50: Unity Health Toronto-St. Michael's | D50: 4864 | E50: Toronto | F50: System implementation/upgrade and data quality concerns | G50: DQN | H50: Reported ED volumes | I50: VOL | J50: DQ_VOL | K50: 4864 | L50: =VLOOKUP($K50,sitelist!$A:$N,14,FALSE) -> Large | M50: Toronto Central | N50: 7 | O50: No
A51: =B51 -> 45931 | B51: 45931 | C51: Alexandra Hospital | D51: 4058 | E51: West | F51: Incomplete data, below threshold | G51: DQN | H51: PIA OR NPIA date and time | I51: Completeness_PIA | J51: DQ_PIA | K51: 4058 | L51: Small | M51: South West | N51: 2 | O51: Yes
A52: =B52 -> 45931 | B52: 45931 | C52: Alexandra Hospital | D52: 4058 | E52: West | F52: Incomplete data, below threshold | G52: DQN | H52: Patient Left ED date and time | I52: Completeness_LEFTED | J52: DQ_LOS | K52: 4058 | L52: Small | M52: South West | N52: 2 | O52: Yes
A53: =B53 -> 45931 | B53: 45931 | C53: Brightshores Health System-Lions Head Site | D53: 4377 | E53: West | F53: Incomplete data, below threshold | G53: DQN | H53: PIA OR NPIA date and time | I53: Completeness_PIA | J53: DQ_PIA | K53: 4377 | L53: Small | M53: South West | N53: 2 | O53: No
A54: =B54 -> 45931 | B54: 45931 | C54: Brightshores Health System-Southampton Site | D54: 4134 | E54: West | F54: Incomplete data, below threshold | G54: DQN | H54: PIA OR NPIA date and time | I54: Completeness_PIA | J54: DQ_PIA | K54: 4134 | L54: Small | M54: South West | N54: 2 | O54: No
A55: =B55 -> 45931 | B55: 45931 | C55: Brightshores Health System-Wiarton Site | D55: 4135 | E55: West | F55: Incomplete data, below threshold | G55: DQN | H55: PIA OR NPIA date and time | I55: Completeness_PIA | J55: DQ_PIA | K55: 4135 | L55: Small | M55: South West | N55: 2 | O55: No
A56: =B56 -> 45931 | B56: 45931 | C56: Four Counties Health Services Corp | D56: 4127 | E56: West | F56: Incomplete data, below threshold | G56: DQN | H56: Ambulance Transfer of Care date and time | I56: Completeness_AMBT | J56: DQ_AOT | K56: 4127 | L56: Small | M56: South West | N56: 2 | O56: No
A57: =B57 -> 45931 | B57: 45931 | C57: Geraldton District Hospital | D57: 4257 | E57: North West | F57: Incomplete data, below threshold | G57: DQN | H57: Ambulance Arrival date and time | I57: Completeness_AMBA | J57: DQ_AOT | K57: 4257 | L57: Small | M57: North West | N57: 14 | O57: No
A58: =B58 -> 45931 | B58: 45931 | C58: Haldimand War Memorial Hospital | D58: 4070 | E58: West | F58: Incomplete data, below threshold | G58: DQN | H58: Ambulance Arrival date and time | I58: Completeness_AMBA | J58: DQ_AOT | K58: 4070 | L58: Small | M58: Hamilton Niagara Haldimand Brant | N58: 4 | O58: No
A59: =B59 -> 45931 | B59: 45931 | C59: Haldimand War Memorial Hospital | D59: 4070 | E59: West | F59: Incomplete data, below threshold | G59: DQN | H59: Ambulance Transfer of Care date and time | I59: Completeness_AMBT | J59: DQ_AOT | K59: 4070 | L59: Small | M59: Hamilton Niagara Haldimand Brant | N59: 4 | O59: No
A60: =B60 -> 45931 | B60: 45931 | C60: Hanover and District Hospital | D60: 4189 | E60: West | F60: Incomplete data, below threshold | G60: DQN | H60: Disposition date and time | I60: Completeness_DISP | J60: DQ_IPB | K60: 4189 | L60: Small | M60: South West | N60: 2 | O60: No
A61: =B61 -> 45931 | B61: 45931 | C61: Hanover and District Hospital | D61: 4189 | E61: West | F61: Incomplete data, below threshold | G61: DQN | H61: Patient Left ED date and time | I61: Completeness_LEFTED | J61: DQ_LOS | K61: 4189 | L61: Small | M61: South West | N61: 2 | O61: No
A62: =B62 -> 45931 | B62: 45931 | C62: Huron Perth Healthcare Alliance-Seaforth | D62: 7553 | E62: West | F62: Incomplete data, below threshold | G62: DQN | H62: Ambulance Arrival date and time | I62: Completeness_AMBA | J62: DQ_AOT | K62: 7553 | L62: Small | M62: South West | N62: 2 | O62: No
... A94: =B94 -> 45931 | B94: 45931 | C94: West Haldimand General Hospital | D94: 4088 | E94: West | F94: Incomplete data, below threshold | G94: DQN | H94: Ambulance Transfer of Care date and time | I94: Completeness_AMBT | J94: DQ_AOT | K94: 4088 | L94: Small | M94: Hamilton Niagara Haldimand Brant | N94: 4 | O94: No
A95: =B95 -> 45901 | B95: 45901 | C95: Blanche River Health-Englehart | D95: 5533 | E95: North East | F95: Data Stabilization Period | G95: RI | H95: Reported ED volumes | I95: VOL | J95: DQ_VOL | K95: 5533 | L95: =VLOOKUP($K95,sitelist!$A:$N,14,FALSE) -> Small | M95: North East | N95: 13 | O95: No
A96: =B96 -> 45901 | B96: 45901 | C96: Blanche River Health-Kirkland | D96: 5538 | E96: North East | F96: Data Stabilization Period | G96: RI | H96: Reported ED volumes | I96: VOL | J96: DQ_VOL | K96: 5538 | L96: =VLOOKUP($K96,sitelist!$A:$N,14,FALSE) -> Small | M96: North East | N96: 13 | O96: No
A97: =B97 -> 45901 | B97: 45901 | C97: Smooth Rock Falls Hospital | D97: 4195 | E97: North East | F97: Data Stabilization Period | G97: RI | H97: Reported ED volumes | I97: VOL | J97: DQ_VOL | K97: 4195 | L97: =VLOOKUP($K97,sitelist!$A:$N,14,FALSE) -> Small | M97: North East | N97: 13 | O97: No
A98: =B98 -> 45901 | B98: 45901 | C98: Weeneebayko Area Hlth Auth-Moose Factory | D98: 4699 | E98: North East | F98: Data Stabilization Period | G98: RI | H98: Reported ED volumes | I98: VOL | J98: DQ_VOL | K98: 4699 | L98: =VLOOKUP($K98,sitelist!$A:$N,14,FALSE) -> Small | M98: North East | N98: 13 | O98: No
A99: =B99 -> 45901 | B99: 45901 | C99: Haldimand War Memorial Hospital | D99: 4070 | E99: West | F99: Data Quality concerns | G99: RI | H99: Time to Inpatient Bed | I99: P4R_IPB | J99: DQ_IPB | K99: 4070 | L99: =VLOOKUP($K99,sitelist!$A:$N,14,FALSE) -> Small | M99: Hamilton Niagara Haldimand Brant | N99: 4 | O99: No
A100: =B100 -> 45901 | B100: 45901 | C100: Mattawa General Hospital | D100: 4187 | E100: North East | F100: Data confirmed as inaccurate | G100: RI | H100: Ambulance Offload Time | I100: P4R_AOT | J100: DQ_AOT | K100: 4187 | L100: =VLOOKUP($K100,sitelist!$A:$N,14,FALSE) -> Small | M100: North East | N100: 13 | O100: No
A101: =B101 -> 45901 | B101: 45901 | C101: Hanover and District Hospital | D101: 4189 | E101: West | F101: Insufficent number of usable records | G101: RI | H101: Time to Disposition Decision | I101: Usability_DISP | J101: DQ_IPB | K101: 4189 | L101: =VLOOKUP($K101,sitelist!$A:$N,14,FALSE) -> Small | M101: South West | N101: 2 | O101: No
A102: =B102 -> 45901 | B102: 45901 | C102: Hospital for Sick Children (The) | D102: 3969 | E102: Toronto | F102: Data Quality concerns | G102: DQN | H102: Reported ambulance volumes | I102: AMBVOL | J102: DQ_AMB_VOL | K102: 3969 | L102: =VLOOKUP($K102,sitelist!$A:$N,14,FALSE) -> Large | M102: Toronto Central | N102: 7 | O102: Yes
A103: =B103 -> 45901 | B103: 45901 | C103: Alexandra Marine and General Hospital | D103: 4082 | E103: West | F103: Data Quality concerns | G103: DQN | H103: Ambulance Offload Time | I103: P4R_AOT | J103: DQ_AOT | K103: 4082 | L103: =VLOOKUP($K103,sitelist!$A:$N,14,FALSE) -> Small | M103: South West | N103: 2 | O103: No
A104: =B104 -> 45901 | B104: 45901 | C104: Espanola General Hospital | D104: 4053 | E104: North East | F104: Data Quality concerns | G104: DQN | H104: ED LOS for non-admitted low acuity patients | I104: P4R_LOSNALO | J104: DQ_LOS | K104: 4053 | L104: =VLOOKUP($K104,sitelist!$A:$N,14,FALSE) -> Small | M104: North East | N104: 13 | O104: No
A105: =B105 -> 45901 | B105: 45901 | C105: Hopital Montfort | D105: 4130 | E105: East | F105: Data Quality concerns | G105: DQN | H105: ED LOS for non-admitted low acuity patients | I105: P4R_LOSNALO | J105: DQ_LOS | K105: 4130 | L105: =VLOOKUP($K105,sitelist!$A:$N,14,FALSE) -> Large | M105: Champlain | N105: 11 | O105: Yes
A106: =B106 -> 45901 | B106: 45901 | C106: Lakeridge Health-Ajax Site | D106: 4845 | E106: East | F106: Data Quality concerns | G106: DQN | H106: ED LOS for admitted patients | I106: P4R_LOSA | J106: DQ_LOS | K106: 4845 | L106: =VLOOKUP($K106,sitelist!$A:$N,14,FALSE) -> Large | M106: Central East | N106: 9 | O106: Yes
... A143: =B143 -> 45870 | B143: 45870 | C143: Bingham Memorial Hospital | D143: 4206 | E143: North East | F143: Data was not submitted by the deadline | G143: RI | H143: Ambulance Offload Time | I143: P4R_AOT | J143: DQ_AOT | K143: 4206 | L143: =VLOOKUP($K143,sitelist!$A:$N,14,FALSE) -> Small | M143: North East | N143: 13 | O143: No
A144: =B144 -> 45870 | B144: 45870 | C144: Red Lake Marg Cochenour Mem Hosp (The) | D144: 4196 | E144: North West | F144: Insufficent number of usable records | G144: RI | H144: Ambulance Offload Time | I144: Usability_AOT | J144: DQ_AOT | K144: 4196 | L144: =VLOOKUP($K144,sitelist!$A:$N,14,FALSE) -> Small | M144: North West
A145: =B145 -> 45870 | B145: 45870 | C145: Haldimand War Memorial Hospital | D145: 4070 | E145: West | F145: Data confirmed as inaccurate | G145: RI | H145: Time to Inpatient Bed | I145: P4R_IPB | J145: DQ_IPB | K145: 4070 | L145: =VLOOKUP($K145,sitelist!$A:$N,14,FALSE) -> Small | M145: Hamilton Niagara Haldimand Brant | N145: 4 | O145: No
A146: =B146 -> 45870 | B146: 45870 | C146: Hanover and District Hospital | D146: 4189 | E146: West | F146: Insufficent number of usable records | G146: RI | H146: Time to Disposition Decision | I146: Usability_DISP | J146: DQ_IPB | K146: 4189 | L146: =VLOOKUP($K146,sitelist!$A:$N,14,FALSE) -> Small | M146: South West | N146: 2 | O146: No
A147: =B147 -> 45870 | B147: 45870 | C147: Peterborough Regional Health Centre | D147: 4073 | E147: East | F147: Data Quality concerns | G147: DQN | H147: Reported ED volumes | I147: VOL | J147: DQ_VOL | K147: 4073 | L147: =VLOOKUP($K147,sitelist!$A:$N,14,FALSE) -> Large | M147: Central East | N147: 9 | O147: Yes
A148: =B148 -> 45870 | B148: 45870 | C148: Peterborough Regional Health Centre | D148: 4073 | E148: East | F148: Data Quality concerns | G148: DQN | H148: Reported ambulance volumes | I148: AMBVOL | J148: DQ_AMB_VOL | K148: 4073 | L148: =VLOOKUP($K148,sitelist!$A:$N,14,FALSE) -> Large | M148: Central East | N148: 9 | O148: Yes
A149: =B149 -> 45870 | B149: 45870 | C149: Hospital for Sick Children (The) | D149: 3969 | E149: Toronto | F149: Data confirmed as inaccurate | G149: DQN | H149: Reported ambulance volumes | I149: AMBVOL | J149: DQ_AMB_VOL | K149: 3969 | L149: =VLOOKUP($K149,sitelist!$A:$N,14,FALSE) -> Large | M149: Toronto Central | N149: 7 | O149: Yes
A150: =B150 -> 45870 | B150: 45870 | C150: Services De Sante De Chapleau Hlth Serv | D150: 4203 | E150: North East | F150: Data Quality concerns | G150: DQN | H150: ED LOS for admitted patients | I150: P4R_LOSA | J150: DQ_LOS | K150: 4203 | L150: =VLOOKUP($K150,sitelist!$A:$N,14,FALSE) -> Small | M150: North East | N150: 13 | O150: No
A151: =B151 -> 45870 | B151: 45870 | C151: Lennox and Addington County Gen Hospital | D151: 4092 | E151: East | F151: System implementation/upgrade and data quality concerns | G151: DQN | H151: Reported ED volumes | I151: VOL | J151: DQ_VOL | K151: 4092 | L151: =VLOOKUP($K151,sitelist!$A:$N,14,FALSE) -> Small | M151: South East | N151: 10 | O151: No
A152: =B152 -> 45870 | B152: 45870 | C152: Lennox and Addington County Gen Hospital | D152: 4092 | E152: East | F152: System implementation/upgrade and data quality concerns | G152: DQN | H152: Ambulance Offload Time | I152: P4R_AOT | J152: DQ_AOT | K152: 4092 | L152: =VLOOKUP($K152,sitelist!$A:$N,14,FALSE) -> Small | M152: South East | N152: 10 | O152: No
A153: =B153 -> 45870 | B153: 45870 | C153: Niagara Health System-Fort Erie Douglas Site | D153: 4232 | E153: West | F153: System implementation/upgrade and data quality concerns | G153: DQN | H153: Reported ED volumes | I153: VOL | J153: DQ_VOL | K153: 4232 | L153: =VLOOKUP($K153,sitelist!$A:$N,14,FALSE) | M153: Hamilton Niagara Haldimand Brant | N153: 4 | O153: No
A154: =B154 -> 45870 | B154: 45870 | C154: Niagara Health System-Greater Niagara | D154: 3982 | E154: West | F154: System implementation/upgrade and data quality concerns | G154: DQN | H154: Reported ED volumes | I154: VOL | J154: DQ_VOL | K154: 3982 | L154: =VLOOKUP($K154,sitelist!$A:$N,14,FALSE) -> Large | M154: Hamilton Niagara Haldimand Brant | N154: 4 | O154: Yes
A155: =B155 -> 45870 | B155: 45870 | C155: Niagara Health System-Port Colborne Site | D155: 4183 | E155: West | F155: System implementation/upgrade and data quality concerns | G155: DQN | H155: Reported ED volumes | I155: VOL | J155: DQ_VOL | K155: 4183 | L155: =VLOOKUP($K155,sitelist!$A:$N,14,FALSE) | M155: Hamilton Niagara Haldimand Brant | N155: 4 | O155: No
A156: =B156 -> 45870 | B156: 45870 | C156: Niagara Health System-Marotta Family Hosp | D156: 4045 | E156: West | F156: System implementation/upgrade and data quality concerns | G156: DQN | H156: Reported ED volumes | I156: VOL | J156: DQ_VOL | K156: 4045 | L156: =VLOOKUP($K156,sitelist!$A:$N,14,FALSE) -> Large | M156: Hamilton Niagara Haldimand Brant | N156: 4 | O156: Yes
... A259: =B259 -> 45778 | B259: 45778 | C259: Perth and Smiths Falls Dist-Smiths Falls | D259: 4316 | E259: East | F259: System implementation/upgrade and data quality concerns | G259: DQN | H259: Reported ED volumes | I259: VOL | J259: DQ_VOL | K259: 4316 | L259: =VLOOKUP($K259,sitelist!$A:$N,14,FALSE) -> Small | M259: South East | N259: 10 | O259: No
A260: =B260 -> 45778 | B260: 45778 | C260: Quinte Health-Belleville | D260: 4097 | E260: East | F260: System implementation/upgrade and data quality concerns | G260: DQN | H260: Reported ED volumes | I260: VOL | J260: DQ_VOL | K260: 4097 | L260: =VLOOKUP($K260,sitelist!$A:$N,14,FALSE) -> Large | M260: =VLOOKUP($K260,sitelist!$A:$O,11,FALSE) -> South East | N260: =VLOOKUP($K260,sitelist!$A:$O,12,FALSE) -> 10 | O260: =VLOOKUP($K260,sitelist!$A:$O,13,FALSE) -> Yes
A261: =B261 -> 45778 | B261: 45778 | C261: Quinte Health-Bancroft | D261: 4098 | E261: East | F261: System implementation/upgrade and data quality concerns | G261: DQN | H261: Reported ED volumes | I261: VOL | J261: DQ_VOL | K261: 4098 | L261: =VLOOKUP($K261,sitelist!$A:$N,14,FALSE) -> Small | M261: =VLOOKUP($K261,sitelist!$A:$O,11,FALSE) -> South East | N261: =VLOOKUP($K261,sitelist!$A:$O,12,FALSE) -> 10 | O261: No
A262: =B262 -> 45778 | B262: 45778 | C262: Quinte Health-Picton | D262: 4100 | E262: East | F262: System implementation/upgrade and data quality concerns | G262: DQN | H262: Reported ED volumes | I262: VOL | J262: DQ_VOL | K262: 4100 | L262: =VLOOKUP($K262,sitelist!$A:$N,14,FALSE) -> Small | M262: =VLOOKUP($K262,sitelist!$A:$O,11,FALSE) -> South East | N262: =VLOOKUP($K262,sitelist!$A:$O,12,FALSE) -> 10 | O262: No
A263: =B263 -> 45778 | B263: 45778 | C263: Quinte Health-Trenton | D263: 4099 | E263: East | F263: System implementation/upgrade and data quality concerns | G263: DQN | H263: Reported ED volumes | I263: VOL | J263: DQ_VOL | K263: 4099 | L263: =VLOOKUP($K263,sitelist!$A:$N,14,FALSE) -> Large | M263: =VLOOKUP($K263,sitelist!$A:$O,11,FALSE) -> South East | N263: =VLOOKUP($K263,sitelist!$A:$O,12,FALSE) -> 10 | O263: Yes
A264: =B264 -> 45778 | B264: 45778 | C264: Unity Health Toronto-St. Joseph's | D264: 4857 | E264: Toronto | F264: System implementation/upgrade and data quality concerns | G264: DQN | H264: Reported ED volumes | I264: VOL | J264: DQ_VOL | K264: 4857 | L264: =VLOOKUP($K264,sitelist!$A:$N,14,FALSE) -> Large | M264: Toronto Central | N264: 7 | O264: Yes
A265: =B265 -> 45778 | B265: 45778 | C265: Unity Health Toronto-St. Michael's | D265: 4864 | E265: Toronto | F265: System implementation/upgrade and data quality concerns | G265: DQN | H265: Reported ED volumes | I265: VOL | J265: DQ_VOL | K265: 4864 | L265: =VLOOKUP($K265,sitelist!$A:$N,14,FALSE) -> Large | M265: Toronto Central | N265: 7 | O265: No
A266: =B266 -> 45748 | B266: 45748 | C266: Blanche River Health-Englehart | D266: 5533 | E266: North East | F266: Data Stabilization Period | G266: RI | H266: Reported ED volumes | I266: VOL | J266: DQ_VOL | K266: 5533 | L266: =VLOOKUP($K266,sitelist!$A:$N,14,FALSE) -> Small | M266: North East | N266: 13 | O266: No
A267: =B267 -> 45748 | B267: 45748 | C267: Blanche River Health-Kirkland | D267: 5538 | E267: North East | F267: Data Stabilization Period | G267: RI | H267: Reported ED volumes | I267: VOL | J267: DQ_VOL | K267: 5538 | L267: =VLOOKUP($K267,sitelist!$A:$N,14,FALSE) -> Small | M267: North East | N267: 13 | O267: No
A268: =B268 -> 45748 | B268: 45748 | C268: Smooth Rock Falls Hospital | D268: 4195 | E268: North East | F268: Data Stabilization Period | G268: RI | H268: Reported ED volumes | I268: VOL | J268: DQ_VOL | K268: 4195 | L268: =VLOOKUP($K268,sitelist!$A:$N,14,FALSE) -> Small | M268: North East | N268: 13 | O268: No
A269: =B269 -> 45748 | B269: 45748 | C269: Weeneebayko Area Hlth Auth-Moose Factory | D269: 4699 | E269: North East | F269: Data Stabilization Period | G269: RI | H269: Reported ED volumes | I269: VOL | J269: DQ_VOL | K269: 4699 | L269: =VLOOKUP($K269,sitelist!$A:$N,14,FALSE) -> Small | M269: North East | N269: 13 | O269: No
A270: =B270 -> 45748 | B270: 45748 | C270: North of Superior Hlthcare Gr-McCausland | D270: 4823 | E270: North West | F270: Data Quality concerns | G270: RI | H270: Time to Inpatient Bed | I270: P4R_IPB | J270: DQ_IPB | K270: 4823 | L270: =VLOOKUP($K270,sitelist!$A:$N,14,FALSE) -> Small | M270: North West | N270: 14 | O270: No
A271: =B271 -> 45748 | B271: 45748 | C271: Trillium Health Partners-Credit Valley | D271: 4751 | E271: Central | F271: Data quality concerns | G271: DQN | H271: Ambulance Offload Time | I271: P4R_AOT | J271: DQ_AOT | K271: 4751 | L271: =VLOOKUP($K271,sitelist!$A:$N,14,FALSE) -> Large | M271: Mississauga Halton | N271: 6 | O271: Yes
A272: =B272 -> 45748 | B272: 45748 | C272: Bluewater Health-Sarnia General Site | D272: 4109 | E272: West | F272: System implementation/upgrade and data quality concerns | G272: DQN | H272: Reported ED volumes | I272: VOL | J272: DQ_VOL | K272: 4109 | L272: =VLOOKUP($K272,sitelist!$A:$N,14,FALSE) -> Large | M272: Erie-St.Clair | N272: 1 | O272: Yes
A273: =B273 -> 45748 | B273: 45748 | C273: Bluewater Health-Petrolia Site | D273: 4256 | E273: West | F273: System implementation/upgrade and data quality concerns | G273: DQN | H273: Reported ED volumes | I273: VOL | J273: DQ_VOL | K273: 4256 | L273: =VLOOKUP($K273,sitelist!$A:$N,14,FALSE) -> Small | M273: Erie-St.Clair | N273: 1 | O273: No
A274: =B274 -> 45748 | B274: 45748 | C274: Brockville General Hospital | D274: 4186 | E274: East | F274: System implementation/upgrade and data quality concerns | G274: DQN | H274: Reported ED volumes | I274: VOL | J274: DQ_VOL | K274: 4186 | L274: =VLOOKUP($K274,sitelist!$A:$N,14,FALSE) -> Small | M274: South East | N274: 10 | O274: No
A275: =B275 -> 45748 | B275: 45748 | C275: Kingston Health Sciences Centre-Kingston General | D275: 4832 | E275: East | F275: System implementation/upgrade and data quality concerns | G275: DQN | H275: Reported ED volumes | I275: VOL | J275: DQ_VOL | K275: 4832 | L275: =VLOOKUP($K275,sitelist!$A:$N,14,FALSE) -> Large | M275: South East | N275: 10 | O275: Yes
... A292: =B292 -> 45748 | B292: 45748 | C292: North of Superior Hlthcare Gr-McCausland | D292: 4823 | E292: North West | F292: Data Quality concerns | G292: DQN | H292: Disposition date and time equal to Patient Left ED date and time | I292: Defaulting_IPB | J292: DQ_IPB | K292: 4823 | L292: =VLOOKUP($K292,sitelist!$A:$N,14,FALSE) -> Small | M292: North West | N292: 14 | O292: No
B293: Past Fiscal Years
B294: Data Month | C294: Site Name | D294: Site Number | E294: Region | F294: Data Quality Notes | G294: Designation | H294: Indicator
A295: =B295 -> 45717 | B295: 45717 | C295: Blanche River Health-Englehart | D295: 5533 | E295: North East | F295: Data Stabilization Period | G295: RI | H295: Reported ED volumes | I295: VOL | J295: DQ_VOL | K295: 5533 | L295: =VLOOKUP($K295,sitelist!$A:$N,14,FALSE) -> Small | M295: North East | N295: 13 | O295: No
A296: =B296 -> 45717 | B296: 45717 | C296: Blanche River Health-Kirkland | D296: 5538 | E296: North East | F296: Data Stabilization Period | G296: RI | H296: Reported ED volumes | I296: VOL | J296: DQ_VOL | K296: 5538 | L296: =VLOOKUP($K296,sitelist!$A:$N,14,FALSE) -> Small | M296: North East | N296: 13 | O296: No
A297: =B297 -> 45717 | B297: 45717 | C297: Smooth Rock Falls Hospital | D297: 4195 | E297: North East | F297: Data Stabilization Period | G297: RI | H297: Reported ED volumes | I297: VOL | J297: DQ_VOL | K297: 4195 | L297: =VLOOKUP($K297,sitelist!$A:$N,14,FALSE) -> Small | M297: North East | N297: 13 | O297: No
A298: =B298 -> 45717 | B298: 45717 | C298: Weeneebayko Area Hlth Auth-Moose Factory | D298: 4699 | E298: North East | F298: Data Stabilization Period | G298: RI | H298: Reported ED volumes | I298: VOL | J298: DQ_VOL | K298: 4699 | L298: =VLOOKUP($K298,sitelist!$A:$N,14,FALSE) -> Small | M298: North East | N298: 13 | O298: No
A299: =B299 -> 45717 | B299: 45717 | C299: Perth and Smiths Falls Dist-Smiths Falls | D299: 4316 | E299: East | F299: Insufficient number of records submitted | G299: RI | H299: Reported ambulance volumes | I299: AMBVOL | J299: DQ_AMB_VOL | K299: 4316 | L299: =VLOOKUP($K299,sitelist!$A:$N,14,FALSE) -> Small | M299: South East | N299: 10 | O299: No
A300: =B300 -> 45717 | B300: 45717 | C300: Bluewater Health-Sarnia General Site | D300: 4109 | E300: West | F300: System implementation/upgrade and data quality concerns | G300: DQN | H300: Reported ED volumes | I300: VOL | J300: DQ_VOL | K300: 4109 | L300: =VLOOKUP($K300,sitelist!$A:$N,14,FALSE) -> Large | M300: Erie-St.Clair | N300: 1 | O300: Yes
A301: =B301 -> 45717 | B301: 45717 | C301: Bluewater Health-Petrolia Site | D301: 4256 | E301: West | F301: System implementation/upgrade and data quality concerns | G301: DQN | H301: Reported ED volumes | I301: VOL | J301: DQ_VOL | K301: 4256 | L301: =VLOOKUP($K301,sitelist!$A:$N,14,FALSE) -> Small | M301: Erie-St.Clair | N301: 1 | O301: No
A302: =B302 -> 45717 | B302: 45717 | C302: Brockville General Hospital | D302: 4186 | E302: East | F302: System implementation/upgrade and data quality concerns | G302: DQN | H302: Reported ED volumes | I302: VOL | J302: DQ_VOL | K302: 4186 | L302: =VLOOKUP($K302,sitelist!$A:$N,14,FALSE) -> Small | M302: South East | N302: 10 | O302: No
A303: =B303 -> 45717 | B303: 45717 | C303: Kingston Health Sciences Centre-Kingston General | D303: 4832 | E303: East | F303: System implementation/upgrade and data quality concerns | G303: DQN | H303: Reported ED volumes | I303: VOL | J303: DQ_VOL | K303: 4832 | L303: =VLOOKUP($K303,sitelist!$A:$N,14,FALSE) -> Large | M303: South East | N303: 10 | O303: Yes
A304: =B304 -> 45717 | B304: 45717 | C304: Kingston Health Sciences Centre-Hotel Dieu | D304: 4829 | E304: East | F304: System implementation/upgrade and data quality concerns | G304: DQN | H304: Reported ED volumes | I304: VOL | J304: DQ_VOL | K304: 4829 | L304: =VLOOKUP($K304,sitelist!$A:$N,14,FALSE) | M304: South East | N304: 10 | O304: No
A305: =B305 -> 45717 | B305: 45717 | C305: Lennox and Addington County Gen Hospital | D305: 4092 | E305: East | F305: System implementation/upgrade and data quality concerns | G305: DQN | H305: Reported ED volumes | I305: VOL | J305: DQ_VOL | K305: 4092 | L305: =VLOOKUP($K305,sitelist!$A:$N,14,FALSE) -> Small | M305: South East | N305: 10 | O305: No
A306: =B306 -> 45717 | B306: 45717 | C306: Lennox and Addington County Gen Hospital | D306: 4092 | E306: East | F306: System implementation/upgrade and data quality concerns | G306: DQN | H306: Ambulance Offload Time | I306: P4R_AOT | J306: DQ_AOT | K306: 4092 | L306: =VLOOKUP($K306,sitelist!$A:$N,14,FALSE) -> Small | M306: South East | N306: 10 | O306: No
... A1549: =B1549 -> 43678 | B1549: 43678 | C1549: Sensenbrenner Hospital | D1549: 4147 | E1549: North East | F1549: Data Quality concerns | G1549: RI | H1549: Time to Inpatient Bed | I1549: P4R_IPB | J1549: DQ_IPB | K1549: 4147 | L1549: =VLOOKUP($K1549,sitelist!$A:$N,14,FALSE) -> Small | M1549: North East | N1549: 13 | O1549: No

Sheet Monthly DQ Notes_PBI
A1: period | B1: edcd | C1: DQ | D1: notes | E1: type | F1: Indicator Short Name | G1: Period_EDCD_Type | H1: Duplicate based on column G
A2: ='Monthly DQ Notes'!A15 -> 45931 | B2: ='Monthly DQ Notes'!D15 -> 5533 | C2: ='Monthly DQ Notes'!G15 -> RI | D2: ='Monthly DQ Notes'!F15 -> Data Stabilization Period | E2: ='Monthly DQ Notes'!J15 -> DQ_VOL | F2: ='Monthly DQ Notes'!I15 -> VOL | G2: =A2&"_"&B2&"_"&E2 -> 45931_5533_DQ_VOL | H2: =IF(COUNTIF(G$2:G2,G2)>1,"Duplicate","Single") -> Single
A3: ='Monthly DQ Notes'!A16 -> 45931 | B3: ='Monthly DQ Notes'!D16 -> 5538 | C3: ='Monthly DQ Notes'!G16 -> RI | D3: ='Monthly DQ Notes'!F16 -> Data Stabilization Period | E3: ='Monthly DQ Notes'!J16 -> DQ_VOL | F3: ='Monthly DQ Notes'!I16 -> VOL | G3: =A3&"_"&B3&"_"&E3 -> 45931_5538_DQ_VOL | H3: =IF(COUNTIF(G$2:G3,G3)>1,"Duplicate","Single") -> Single
A4: ='Monthly DQ Notes'!A17 -> 45931 | B4: ='Monthly DQ Notes'!D17 -> 4679 | C4: ='Monthly DQ Notes'!G17 -> RI | D4: ='Monthly DQ Notes'!F17 -> Data confirmed as inaccurate | E4: ='Monthly DQ Notes'!J17 -> DQ_VOL | F4: ='Monthly DQ Notes'!I17 -> VOL | G4: =A4&"_"&B4&"_"&E4 -> 45931_4679_DQ_VOL | H4: =IF(COUNTIF(G$2:G4,G4)>1,"Duplicate","Single") -> Single
A5: ='Monthly DQ Notes'!A18 -> 45931 | B5: ='Monthly DQ Notes'!D18 -> 4251 | C5: ='Monthly DQ Notes'!G18 -> RI | D5: ='Monthly DQ Notes'!F18 -> Data was not submitted by the deadline | E5: ='Monthly DQ Notes'!J18 -> DQ_VOL | F5: ='Monthly DQ Notes'!I18 -> VOL | G5: =A5&"_"&B5&"_"&E5 -> 45931_4251_DQ_VOL | H5: =IF(COUNTIF(G$2:G5,G5)>1,"Duplicate","Single") -> Single
A6: ='Monthly DQ Notes'!A19 -> 45931 | B6: ='Monthly DQ Notes'!D19 -> 4316 | C6: ='Monthly DQ Notes'!G19 -> RI | D6: ='Monthly DQ Notes'!F19 -> Data was not submitted by the deadline | E6: ='Monthly DQ Notes'!J19 -> DQ_VOL | F6: ='Monthly DQ Notes'!I19 -> VOL | G6: =A6&"_"&B6&"_"&E6 -> 45931_4316_DQ_VOL | H6: =IF(COUNTIF(G$2:G6,G6)>1,"Duplicate","Single") -> Single
A7: ='Monthly DQ Notes'!A20 -> 45931 | B7: ='Monthly DQ Notes'!D20 -> 4166 | C7: ='Monthly DQ Notes'!G20 -> RI | D7: ='Monthly DQ Notes'!F20 -> Data was not submitted by the deadline | E7: ='Monthly DQ Notes'!J20 -> DQ_VOL | F7: ='Monthly DQ Notes'!I20 -> VOL | G7: =A7&"_"&B7&"_"&E7 -> 45931_4166_DQ_VOL | H7: =IF(COUNTIF(G$2:G7,G7)>1,"Duplicate","Single") -> Single
A8: ='Monthly DQ Notes'!A21 -> 45931 | B8: ='Monthly DQ Notes'!D21 -> 4195 | C8: ='Monthly DQ Notes'!G21 -> RI | D8: ='Monthly DQ Notes'!F21 -> Data Stabilization Period | E8: ='Monthly DQ Notes'!J21 -> DQ_VOL | F8: ='Monthly DQ Notes'!I21 -> VOL | G8: =A8&"_"&B8&"_"&E8 -> 45931_4195_DQ_VOL | H8: =IF(COUNTIF(G$2:G8,G8)>1,"Duplicate","Single") -> Single
A9: ='Monthly DQ Notes'!A22 -> 45931 | B9: ='Monthly DQ Notes'!D22 -> 4699 | C9: ='Monthly DQ Notes'!G22 -> RI | D9: ='Monthly DQ Notes'!F22 -> Data Stabilization Period | E9: ='Monthly DQ Notes'!J22 -> DQ_VOL | F9: ='Monthly DQ Notes'!I22 -> VOL | G9: =A9&"_"&B9&"_"&E9 -> 45931_4699_DQ_VOL | H9: =IF(COUNTIF(G$2:G9,G9)>1,"Duplicate","Single") -> Single
A10: ='Monthly DQ Notes'!A23 -> 45931 | B10: ='Monthly DQ Notes'!D23 -> 4114 | C10: ='Monthly DQ Notes'!G23 -> RI | D10: ='Monthly DQ Notes'!F23 -> Data was not submitted by the deadline | E10: ='Monthly DQ Notes'!J23 -> DQ_VOL | F10: ='Monthly DQ Notes'!I23 -> VOL | G10: =A10&"_"&B10&"_"&E10 -> 45931_4114_DQ_VOL | H10: =IF(COUNTIF(G$2:G10,G10)>1,"Duplicate","Single") -> Single
A11: ='Monthly DQ Notes'!A24 -> 45931 | B11: ='Monthly DQ Notes'!D24 -> 4189 | C11: ='Monthly DQ Notes'!G24 -> RI | D11: ='Monthly DQ Notes'!F24 -> Insufficent number of usable records | E11: ='Monthly DQ Notes'!J24 -> DQ_IPB | F11: ='Monthly DQ Notes'!I24 -> Usability_DISP | G11: =A11&"_"&B11&"_"&E11 -> 45931_4189_DQ_IPB | H11: =IF(COUNTIF(G$2:G11,G11)>1,"Duplicate","Single") -> Single
A12: ='Monthly DQ Notes'!A25 -> 45931 | B12: ='Monthly DQ Notes'!D25 -> 4070 | C12: ='Monthly DQ Notes'!G25 -> RI | D12: ='Monthly DQ Notes'!F25 -> Data Quality concerns | E12: ='Monthly DQ Notes'!J25 -> DQ_IPB | F12: ='Monthly DQ Notes'!I25 -> P4R_IPB | G12: =A12&"_"&B12&"_"&E12 -> 45931_4070_DQ_IPB | H12: =IF(COUNTIF(G$2:G12,G12)>1,"Duplicate","Single") -> Single
A13: ='Monthly DQ Notes'!A26 -> 45931 | B13: ='Monthly DQ Notes'!D26 -> 4805 | C13: ='Monthly DQ Notes'!G26 -> RI | D13: ='Monthly DQ Notes'!F26 -> Data confirmed as inaccurate | E13: ='Monthly DQ Notes'!J26 -> DQ_IPB | F13: ='Monthly DQ Notes'!I26 -> Usability_IPB | G13: =A13&"_"&B13&"_"&E13 -> 45931_4805_DQ_IPB | H13: =IF(COUNTIF(G$2:G13,G13)>1,"Duplicate","Single") -> Single
... A279: ='Monthly DQ Notes'!A292 -> 45748 | B279: ='Monthly DQ Notes'!D292 -> 4823 | C279: ='Monthly DQ Notes'!G292 -> DQN | D279: ='Monthly DQ Notes'!F292 -> Data Quality concerns | E279: ='Monthly DQ Notes'!J292 -> DQ_IPB | F279: ='Monthly DQ Notes'!I292 -> Defaulting_IPB | G279: =A279&"_"&B279&"_"&E279 -> 45748_4823_DQ_IPB | H279: =IF(COUNTIF(G$2:G279,G279)>1,"Duplicate","Single") -> Duplicate
A280: Past Fiscal Years
A281: Data Month | B281: Site Name | C281: Site Number | D281: Region | E281: Data Quality Notes | F281: Designation
A282: ='Monthly DQ Notes'!A295 -> 45717 | B282: ='Monthly DQ Notes'!D295 -> 5533 | C282: ='Monthly DQ Notes'!G295 -> RI | D282: ='Monthly DQ Notes'!F295 -> Data Stabilization Period | E282: ='Monthly DQ Notes'!J295 -> DQ_VOL | F282: ='Monthly DQ Notes'!I295 -> VOL | G282: =A282&"_"&B282&"_"&E282 -> 45717_5533_DQ_VOL | H282: =IF(COUNTIF(G$2:G282,G282)>1,"Duplicate","Single") -> Single
A283: ='Monthly DQ Notes'!A296 -> 45717 | B283: ='Monthly DQ Notes'!D296 -> 5538 | C283: ='Monthly DQ Notes'!G296 -> RI | D283: ='Monthly DQ Notes'!F296 -> Data Stabilization Period | E283: ='Monthly DQ Notes'!J296 -> DQ_VOL | F283: ='Monthly DQ Notes'!I296 -> VOL | G283: =A283&"_"&B283&"_"&E283 -> 45717_5538_DQ_VOL | H283: =IF(COUNTIF(G$2:G283,G283)>1,"Duplicate","Single") -> Single
A284: ='Monthly DQ Notes'!A297 -> 45717 | B284: ='Monthly DQ Notes'!D297 -> 4195 | C284: ='Monthly DQ Notes'!G297 -> RI | D284: ='Monthly DQ Notes'!F297 -> Data Stabilization Period | E284: ='Monthly DQ Notes'!J297 -> DQ_VOL | F284: ='Monthly DQ Notes'!I297 -> VOL | G284: =A284&"_"&B284&"_"&E284 -> 45717_4195_DQ_VOL | H284: =IF(COUNTIF(G$2:G284,G284)>1,"Duplicate","Single") -> Single
A285: ='Monthly DQ Notes'!A298 -> 45717 | B285: ='Monthly DQ Notes'!D298 -> 4699 | C285: ='Monthly DQ Notes'!G298 -> RI | D285: ='Monthly DQ Notes'!F298 -> Data Stabilization Period | E285: ='Monthly DQ Notes'!J298 -> DQ_VOL | F285: ='Monthly DQ Notes'!I298 -> VOL | G285: =A285&"_"&B285&"_"&E285 -> 45717_4699_DQ_VOL | H285: =IF(COUNTIF(G$2:G285,G285)>1,"Duplicate","Single") -> Single
A286: ='Monthly DQ Notes'!A299 -> 45717 | B286: ='Monthly DQ Notes'!D299 -> 4316 | C286: ='Monthly DQ Notes'!G299 -> RI | D286: ='Monthly DQ Notes'!F299 -> Insufficient number of records submitted | E286: ='Monthly DQ Notes'!J299 -> DQ_AMB_VOL | F286: ='Monthly DQ Notes'!I299 -> AMBVOL | G286: =A286&"_"&B286&"_"&E286 -> 45717_4316_DQ_AMB_VOL | H286: =IF(COUNTIF(G$2:G286,G286)>1,"Duplicate","Single") -> Single
A287: ='Monthly DQ Notes'!A300 -> 45717 | B287: ='Monthly DQ Notes'!D300 -> 4109 | C287: ='Monthly DQ Notes'!G300 -> DQN | D287: ='Monthly DQ Notes'!F300 -> System implementation/upgrade and data quality concerns | E287: ='Monthly DQ Notes'!J300 -> DQ_VOL | F287: ='Monthly DQ Notes'!I300 -> VOL | G287: =A287&"_"&B287&"_"&E287 -> 45717_4109_DQ_VOL | H287: =IF(COUNTIF(G$2:G287,G287)>1,"Duplicate","Single") -> Single
A288: ='Monthly DQ Notes'!A301 -> 45717 | B288: ='Monthly DQ Notes'!D301 -> 4256 | C288: ='Monthly DQ Notes'!G301 -> DQN | D288: ='Monthly DQ Notes'!F301 -> System implementation/upgrade and data quality concerns | E288: ='Monthly DQ Notes'!J301 -> DQ_VOL | F288: ='Monthly DQ Notes'!I301 -> VOL | G288: =A288&"_"&B288&"_"&E288 -> 45717_4256_DQ_VOL | H288: =IF(COUNTIF(G$2:G288,G288)>1,"Duplicate","Single") -> Single
A289: ='Monthly DQ Notes'!A302 -> 45717 | B289: ='Monthly DQ Notes'!D302 -> 4186 | C289: ='Monthly DQ Notes'!G302 -> DQN | D289: ='Monthly DQ Notes'!F302 -> System implementation/upgrade and data quality concerns | E289: ='Monthly DQ Notes'!J302 -> DQ_VOL | F289: ='Monthly DQ Notes'!I302 -> VOL | G289: =A289&"_"&B289&"_"&E289 -> 45717_4186_DQ_VOL | H289: =IF(COUNTIF(G$2:G289,G289)>1,"Duplicate","Single") -> Single
A290: ='Monthly DQ Notes'!A303 -> 45717 | B290: ='Monthly DQ Notes'!D303 -> 4832 | C290: ='Monthly DQ Notes'!G303 -> DQN | D290: ='Monthly DQ Notes'!F303 -> System implementation/upgrade and data quality concerns | E290: ='Monthly DQ Notes'!J303 -> DQ_VOL | F290: ='Monthly DQ Notes'!I303 -> VOL | G290: =A290&"_"&B290&"_"&E290 -> 45717_4832_DQ_VOL | H290: =IF(COUNTIF(G$2:G290,G290)>1,"Duplicate","Single") -> Single
A291: ='Monthly DQ Notes'!A304 -> 45717 | B291: ='Monthly DQ Notes'!D304 -> 4829 | C291: ='Monthly DQ Notes'!G304 -> DQN | D291: ='Monthly DQ Notes'!F304 -> System implementation/upgrade and data quality concerns | E291: ='Monthly DQ Notes'!J304 -> DQ_VOL | F291: ='Monthly DQ Notes'!I304 -> VOL | G291: =A291&"_"&B291&"_"&E291 -> 45717_4829_DQ_VOL | H291: =IF(COUNTIF(G$2:G291,G291)>1,"Duplicate","Single") -> Single
A292: ='Monthly DQ Notes'!A305 -> 45717 | B292: ='Monthly DQ Notes'!D305 -> 4092 | C292: ='Monthly DQ Notes'!G305 -> DQN | D292: ='Monthly DQ Notes'!F305 -> System implementation/upgrade and data quality concerns | E292: ='Monthly DQ Notes'!J305 -> DQ_VOL | F292: ='Monthly DQ Notes'!I305 -> VOL | G292: =A292&"_"&B292&"_"&E292 -> 45717_4092_DQ_VOL | H292: =IF(COUNTIF(G$2:G292,G292)>1,"Duplicate","Single") -> Single
A293: ='Monthly DQ Notes'!A306 -> 45717 | B293: ='Monthly DQ Notes'!D306 -> 4092 | C293: ='Monthly DQ Notes'!G306 -> DQN | D293: ='Monthly DQ Notes'!F306 -> System implementation/upgrade and data quality concerns | E293: ='Monthly DQ Notes'!J306 -> DQ_AOT | F293: ='Monthly DQ Notes'!I306 -> P4R_AOT | G293: =A293&"_"&B293&"_"&E293 -> 45717_4092_DQ_AOT | H293: =IF(COUNTIF(G$2:G293,G293)>1,"Duplicate","Single") -> Single
... A1536: ='Monthly DQ Notes'!A1549 -> 43678 | B1536: ='Monthly DQ Notes'!D1549 -> 4147 | C1536: ='Monthly DQ Notes'!G1549 -> RI | D1536: ='Monthly DQ Notes'!F1549 -> Data Quality concerns | E1536: ='Monthly DQ Notes'!J1549 -> DQ_IPB | F1536: ='Monthly DQ Notes'!I1549 -> P4R_IPB | G1536: =A1536&"_"&B1536&"_"&E1536 -> 43678_4147_DQ_IPB | H1536: =IF(COUNTIF(G$2:G1536,G1536)>1,"Duplicate","Single") -> Single

Sheet Quarterly Usability
A1: period | B1: edcd | C1: DQ | D1: notes | E1: type | F1: Indicator Short Name
A2: 45748 | B2: 4699 | C2: RI | D2: Insufficient number of usable records | E2: DQ_PIA | F2: Usability_PIA
A3: 45748 | B3: 4823 | C3: RI | D3: Insufficient number of usable records | E3: DQ_IPB | F3: Usability_IPB
A4: 45748 | B4: 4820 | C4: RI | D4: Insufficient number of usable records | E4: DQ_IPB | F4: Usability_IPB
A5: 45839 | B5: 4251 | C5: RI | D5: Infufficent number of records submitted | E5: DQ_VOL | F5: VOL
A6: 45839 | B6: 4316 | C6: RI | D6: Infufficent number of records submitted | E6: DQ_VOL | F6: VOL
A7: 45839 | B7: 4255 | C7: RI | D7: Insufficient number of usable records | E7: DQ_AOT | F7: Usability_AOT

Sheet YTD Usability
A1: period | B1: edcd | C1: DQ | D1: notes | E1: type | F1: Indicator Short Name
A2: 45748 | B2: 4699 | C2: RI | D2: Insufficient number of usable records | E2: DQ_PIA | F2: Usability_PIA
A3: 45748 | B3: 4823 | C3: RI | D3: Insufficient number of usable records | E3: DQ_IPB | F3: Usability_IPB
A4: 45748 | B4: 4820 | C4: RI | D4: Insufficient number of usable records | E4: DQ_IPB | F4: Usability_IPB

Sheet sitelist
A1: Site Number | B1: ISTCL Site Name | C1: ER Wait Time Hospital | D1: Wave | E1: Hospital Group | F1: Hospital Group Code | G1: Region Name | H1: RegionID | I1: Facility Name | J1: Facility Number | K1: LHIN | L1: LHIN Names | M1: CDU Designation | N1: P4R | O1: Year 12 funded hospitals | S1: Site Number | T1: P4R
A2: 3920 | B2: North Shore Hlth Ntwrk-Blind River Site | C2: Yes | D2: 2 | E2: NA | G2: North East | H2: 36 | I2: North Shore Health Network | J2: 611 | K2: North East | L2: 13 | M2: No | N2: Small | Q2: =N2=R2 -> TRUE | R2: =VLOOKUP($A2,$S:$T,2,FALSE) -> Small | S2: 3920 | T2: Small
A3: 3969 | B3: Hospital for Sick Children (The) | C3: Yes | E3: Paediatric Hospital | F3: 1005 | G3: Toronto | H3: 33 | I3: Hospital for Sick Children (The) | J3: 837 | K3: Toronto Central | L3: 7 | M3: Yes | N3: Large | O3: Yes | Q3: =N3=R3 -> TRUE | R3: =VLOOKUP($A3,$S:$T,2,FALSE) -> Large | S3: 3969 | T3: Large
A4: 3970 | B4: Queensway-Carleton Hospital | C4: Yes | E4: High-Volume Community Hospital | F4: 1003 | G4: East | H4: 34 | I4: Queensway-Carleton Hospital | J4: 777 | K4: Champlain | L4: 11 | M4: Yes | N4: Large | O4: Yes | Q4: =N4=R4 -> TRUE | R4: =VLOOKUP($A4,$S:$T,2,FALSE) -> Large | S4: 3970 | T4: Large
A5: 3972 | B5: Sault Area Hospital-Sault Ste. Marie | C5: Yes | E5: High-Volume Community Hospital | F5: 1003 | G5: North East | H5: 36 | I5: Sault Area Hospital | J5: 965 | K5: North East | L5: 13 | M5: Yes | N5: Large | O5: Yes | Q5: =N5=R5 -> TRUE | R5: =VLOOKUP($A5,$S:$T,2,FALSE) -> Large | S5: 3972 | T5: Large
A6: 3978 | B6: Niagara Health System-Welland County | C6: Yes | E6: Medium-Volume Community Hospital | F6: 1002 | G6: West | H6: 31 | I6: Niagara Health System | J6: 962 | K6: Hamilton Niagara Haldimand Brant | L6: 4 | M6: No | N6: Large | O6: Yes | Q6: =N6=R6 -> TRUE | R6: =VLOOKUP($A6,$S:$T,2,FALSE) -> Large | S6: 3978 | T6: Large
A7: 3982 | B7: Niagara Health System-Greater Niagara | C7: Yes | E7: Medium-Volume Community Hospital | F7: 1002 | G7: West | H7: 31 | I7: Niagara Health System | J7: 962 | K7: Hamilton Niagara Haldimand Brant | L7: 4 | M7: Yes | N7: Large | O7: Yes | Q7: =N7=R7 -> TRUE | R7: =VLOOKUP($A7,$S:$T,2,FALSE) -> Large | S7: 3982 | T7: Large
A8: 3983 | B8: Relig Hosp Of St.Joseph Of Hotel Dieu | C8: No | E8: NA | G8: West | H8: 31 | I8: Relig Hosp Of St.Joseph Of Hotel Dieu | J8: 790 | K8: Hamilton Niagara Haldimand Brant | L8: 4 | M8: No | Q8: =N8=R8 -> TRUE | R8: =VLOOKUP($A8,$S:$T,2,FALSE) | S8: 3983
A9: 3987 | B9: Royal Victoria Regional Health Centre | C9: Yes | E9: High-Volume Community Hospital | F9: 1003 | G9: Central | H9: 32 | I9: Royal Victoria Regional Health Centre | J9: 606 | K9: North Simcoe Muskoka | L9: 12 | M9: Yes | N9: Large | O9: Yes | Q9: =N9=R9 -> TRUE | R9: =VLOOKUP($A9,$S:$T,2,FALSE) -> Large | S9: 3987 | T9: Large
A10: 4001 | B10: Southlake Regional Health Centre | C10: Yes | E10: Very High-Volume Community Hospital | F10: 1004 | G10: Central | H10: 32 | I10: Southlake Regional Health Centre | J10: 736 | K10: Central | L10: 8 | M10: Yes | N10: Large | O10: Yes | Q10: =N10=R10 -> TRUE | R10: =VLOOKUP($A10,$S:$T,2,FALSE) -> Large | S10: 4001 | T10: Large
A11: 4044 | B11: Guelph General Hospital | C11: Yes | E11: High-Volume Community Hospital | F11: 1003 | G11: West | H11: 31 | I11: Guelph General Hospital | J11: 665 | K11: Waterloo Wellington | L11: 3 | M11: Yes | N11: Large | O11: Yes | Q11: =N11=R11 -> TRUE | R11: =VLOOKUP($A11,$S:$T,2,FALSE) -> Large | S11: 4044 | T11: Large
A12: 4045 | B12: Niagara Health System-Marotta Family Hosp | C12: Yes | E12: High-Volume Community Hospital | F12: 1003 | G12: West | H12: 31 | I12: Niagara Health System | J12: 962 | K12: Hamilton Niagara Haldimand Brant | L12: 4 | M12: Yes | N12: Large | O12: Yes | Q12: =N12=R12 -> TRUE | R12: =VLOOKUP($A12,$S:$T,2,FALSE) -> Large | S12: 4045 | T12: Large
A13: 4053 | B13: Espanola General Hospital | C13: Yes | D13: 2 | E13: NA | G13: North East | H13: 36 | I13: Espanola General Hospital | J13: 654 | K13: North East | L13: 13 | M13: No | N13: Small | Q13: =N13=R13 -> TRUE | R13: =VLOOKUP($A13,$S:$T,2,FALSE) -> Small | S13: 4053 | T13: Small
A14: 4054 | B14: St. Joseph's Health Care System-Hamilton | C14: Yes | E14: Teaching Hospital | F14: 1006 | G14: West | H14: 31 | I14: St. Joseph's Health Care System | J14: 674 | K14: Hamilton Niagara Haldimand Brant | L14: 4 | M14: Yes | N14: Large | O14: Yes | Q14: =N14=R14 -> TRUE | R14: =VLOOKUP($A14,$S:$T,2,FALSE) -> Large | S14: 4054 | T14: Large
A15: 4055 | B15: St. Joseph's Community Health Centre | C15: No | E15: Urgent Care Centre | F15: 1007 | G15: West | H15: 31 | I15: St. Joseph's Community Health Centre | J15: 674 | K15: Hamilton Niagara Haldimand Brant | L15: 4 | M15: No | Q15: =N15=R15 -> TRUE | R15: =VLOOKUP($A15,$S:$T,2,FALSE) | S15: 4055
A16: 4057 | B16: Woodstock Hospital | C16: Yes | E16: Medium-Volume Community Hospital | F16: 1002 | G16: West | H16: 31 | I16: Woodstock Hospital | J16: 890 | K16: South West | L16: 2 | M16: No | N16: Large | O16: Yes | Q16: =N16=R16 -> TRUE | R16: =VLOOKUP($A16,$S:$T,2,FALSE) -> Large | S16: 4057 | T16: Large
A17: 4058 | B17: Alexandra Hospital | C17: Yes | E17: Very Low-Volume Community Hospital | F17: 1000 | G17: West | H17: 31 | I17: Alexandra Hospital | J17: 684 | K17: South West | L17: 2 | M17: Yes | N17: Small | O17: No | Q17: =N17=R17 -> TRUE | R17: =VLOOKUP($A17,$S:$T,2,FALSE) -> Small | S17: 4058 | T17: Small
A18: 4063 | B18: Health Sciences North-Laurentian | C18: Yes | E18: Teaching Hospital | F18: 1006 | G18: North East | H18: 36 | I18: Health Sciences North | J18: 959 | K18: North East | L18: 13 | M18: No | N18: Large | O18: Yes | Q18: =N18=R18 -> TRUE | R18: =VLOOKUP($A18,$S:$T,2,FALSE) -> Large | S18: 4063 | T18: Large
A19: 4070 | B19: Haldimand War Memorial Hospital | C19: Yes | E19: Low-Volume Community Hospital | F19: 1001 | G19: West | H19: 31 | I19: Haldimand War Memorial Hospital | J19: 648 | K19: Hamilton Niagara Haldimand Brant | L19: 4 | M19: No | N19: Small | O19: No | Q19: =N19=R19 -> TRUE | R19: =VLOOKUP($A19,$S:$T,2,FALSE) -> Small | S19: 4070 | T19: Small
A20: 4071 | B20: Pembroke Regional Hospital Inc. | C20: Yes | E20: Medium-Volume Community Hospital | F20: 1002 | G20: East | H20: 34 | I20: Pembroke Regional Hospital Incorporated | J20: 763 | K20: Champlain | L20: 11 | M20: No | N20: Large | O20: Yes | Q20: =N20=R20 -> TRUE | R20: =VLOOKUP($A20,$S:$T,2,FALSE) -> Large | S20: 4071 | T20: Large
A21: 4073 | B21: Peterborough Regional Health Centre | C21: Yes | E21: Very High-Volume Community Hospital | F21: 1004 | G21: East | H21: 34 | I21: Peterborough Regional Health Centre | J21: 771 | K21: Central East | L21: 9 | M21: Yes | N21: Large | O21: Yes | Q21: =N21=R21 -> TRUE | R21: =VLOOKUP($A21,$S:$T,2,FALSE) -> Large | S21: 4073 | T21: Large
A22: 4076 | B22: St. Thomas-Elgin General Hospital | C22: Yes | E22: High-Volume Community Hospital | F22: 1003 | G22: West | H22: 31 | I22: St. Thomas-Elgin General Hospital | J22: 793 | K22: South West | L22: 2 | M22: No | N22: Large | O22: Yes | Q22: =N22=R22 -> TRUE | R22: =VLOOKUP($A22,$S:$T,2,FALSE) -> Large | S22: 4076 | T22: Large
A23: 4077 | B23: Campbellford Memorial Hospital | C23: Yes | E23: Low-Volume Community Hospital | F23: 1001 | G23: East | H23: 34 | I23: Campbellford Memorial Hospital | J23: 624 | K23: Central East | L23: 9 | M23: No | N23: Small | O23: No | Q23: =N23=R23 -> TRUE | R23: =VLOOKUP($A23,$S:$T,2,FALSE) -> Small | S23: 4077 | T23: Small
A24: 4078 | B24: South Huron Hospital | C24: Yes | D24: 2 | E24: Very Low-Volume Community Hospital | F24: 1000 | G24: West | H24: 31 | I24: South Huron Hospital | J24: 655 | K24: South West | L24: 2 | M24: No | N24: Small | Q24: =N24=R24 -> TRUE | R24: =VLOOKUP($A24,$S:$T,2,FALSE) -> Small | S24: 4078 | T24: Small
A25: 4079 | B25: Ottawa Hospital (The)-Civic site | C25: Yes | E25: Teaching Hospital | F25: 1006 | G25: East | H25: 34 | I25: Ottawa Hospital (The) | J25: 958 | K25: Champlain | L25: 11 | M25: Yes | N25: Large | O25: Yes | Q25: =N25=R25 -> TRUE | R25: =VLOOKUP($A25,$S:$T,2,FALSE) -> Large | S25: 4079 | T25: Large
A26: 4080 | B26: Ottawa Hospital ( The )-Riverside Site | C26: No | E26: NA | G26: East | H26: 34 | I26: Ottawa Hospital (The) | J26: 958 | K26: Champlain | L26: 11 | M26: No | Q26: =N26=R26 -> TRUE | R26: =VLOOKUP($A26,$S:$T,2,FALSE) | S26: 4080
A27: 4081 | B27: South Bruce Grey Health Centre-Durham | C27: Yes | E27: Very Low-Volume Community Hospital | F27: 1000 | G27: West | H27: 31 | I27: South Bruce Grey Health Centre | J27: 946 | K27: South West | L27: 2 | M27: No | N27: Small | O27: No | Q27: =N27=R27 -> TRUE | R27: =VLOOKUP($A27,$S:$T,2,FALSE) -> Small | S27: 4081 | T27: Small
A28: 4082 | B28: Alexandra Marine and General Hospital | C28: Yes | D28: 2 | E28: NA | G28: West | H28: 31 | I28: Alexandra Marine And General Hospital | J28: 663 | K28: South West | L28: 2 | M28: No | N28: Small | Q28: =N28=R28 -> TRUE | R28: =VLOOKUP($A28,$S:$T,2,FALSE) -> Small | S28: 4082 | T28: Small
A29: 4085 | B29: Ottawa Hospital (The)-General site | C29: Yes | E29: Teaching Hospital | F29: 1006 | G29: East | H29: 34 | I29: Ottawa Hospital (The) | J29: 958 | K29: Champlain | L29: 11 | M29: Yes | N29: Large | O29: Yes | Q29: =N29=R29 -> TRUE | R29: =VLOOKUP($A29,$S:$T,2,FALSE) -> Large | S29: 4085 | T29: Large
A30: 4088 | B30: West Haldimand General Hospital | C30: Yes | D30: 2 | E30: NA | G30: West | H30: 31 | I30: West Haldimand General Hospital | J30: 734 | K30: Hamilton Niagara Haldimand Brant | L30: 4 | M30: No | N30: Small | Q30: =N30=R30 -> TRUE | R30: =VLOOKUP($A30,$S:$T,2,FALSE) -> Small | S30: 4088 | T30: Small
A31: 4091 | B31: Children's Hospital of Eastern Ontario | C31: Yes | E31: Paediatric Hospital | F31: 1005 | G31: East | H31: 34 | I31: Children's Hospital of Eastern Ontario | J31: 751 | K31: Champlain | L31: 11 | M31: No | N31: Large | O31: Yes | Q31: =N31=R31 -> TRUE | R31: =VLOOKUP($A31,$S:$T,2,FALSE) -> Large | S31: 4091 | T31: Large
A32: 4092 | B32: Lennox and Addington County Gen Hospital | C32: Yes | E32: Low-Volume Community Hospital | F32: 1001 | G32: East | H32: 34 | I32: Lennox And Addington County General Hospital | J32: 592 | K32: South East | L32: 10 | M32: No | N32: Small | O32: No | Q32: =N32=R32 -> TRUE | R32: =VLOOKUP($A32,$S:$T,2,FALSE) -> Small | S32: 4092 | T32: Small
A33: 4093 | B33: Tillsonburg District Memorial Hospital | C33: Yes | E33: Low-Volume Community Hospital | F33: 1001 | G33: West | H33: 31 | I33: Tillsonburg District Memorial Hospital | J33: 824 | K33: South West | L33: 2 | M33: Yes | N33: Small | O33: No | Q33: =N33=R33 -> TRUE | R33: =VLOOKUP($A33,$S:$T,2,FALSE) -> Small | S33: 4093 | T33: Small
A34: 4094 | B34: South Bruce Grey Health Centre-Kincardine | C34: Yes | E34: Very Low-Volume Community Hospital | F34: 1000 | G34: West | H34: 31 | I34: South Bruce Grey Health Centre | J34: 946 | K34: South West | L34: 2 | M34: No | N34: Small | O34: No | Q34: =N34=R34 -> TRUE | R34: =VLOOKUP($A34,$S:$T,2,FALSE) -> Small | S34: 4094 | T34: Small
A35: 4095 | B35: South Bruce Grey Health Centre-Walkerton | C35: Yes | E35: Very Low-Volume Community Hospital | F35: 1000 | G35: West | H35: 31 | I35: South Bruce Grey Health Centre | J35: 946 | K35: South West | L35: 2 | M35: No | N35: Small | O35: No | Q35: =N35=R35 -> TRUE | R35: =VLOOKUP($A35,$S:$T,2,FALSE) -> Small | S35: 4095 | T35: Small
A36: 4096 | B36: South Bruce Grey Health Centre-Chesley | C36: Yes | E36: Under 7000 ED Visits | F36: 1008 | G36: West | H36: 31 | I36: South Bruce Grey Health Centre | J36: 946 | K36: South West | L36: 2 | M36: No | N36: Small | O36: No | Q36: =N36=R36 -> TRUE | R36: =VLOOKUP($A36,$S:$T,2,FALSE) -> Small | S36: 4096 | T36: Small
A37: 4097 | B37: Quinte Health-Belleville | C37: Yes | E37: Medium-Volume Community Hospital | F37: 1002 | G37: East | H37: 34 | I37: Quinte Health | J37: 957 | K37: South East | L37: 10 | M37: Yes | N37: Large | O37: Yes | Q37: =N37=R37 -> TRUE | R37: =VLOOKUP($A37,$S:$T,2,FALSE) -> Large | S37: 4097 | T37: Large
A38: 4098 | B38: Quinte Health-Bancroft | C38: Yes | E38: Very Low-Volume Community Hospital | F38: 1000 | G38: East | H38: 34 | I38: Quinte Health | J38: 957 | K38: South East | L38: 10 | M38: No | N38: Small | O38: No | Q38: =N38=R38 -> TRUE | R38: =VLOOKUP($A38,$S:$T,2,FALSE) -> Small | S38: 4098 | T38: Small
A39: 4099 | B39: Quinte Health-Trenton | C39: Yes | E39: Medium-Volume Community Hospital | F39: 1002 | G39: East | H39: 34 | I39: Quinte Health | J39: 957 | K39: South East | L39: 10 | M39: Yes | N39: Large | O39: Yes | Q39: =N39=R39 -> TRUE | R39: =VLOOKUP($A39,$S:$T,2,FALSE) -> Large | S39: 4099 | T39: Large
A40: 4100 | B40: Quinte Health-Picton | C40: Yes | E40: Low-Volume Community Hospital | F40: 1001 | G40: East | H40: 34 | I40: Quinte Health | J40: 957 | K40: South East | L40: 10 | M40: No | N40: Small | O40: No | Q40: =N40=R40 -> TRUE | R40: =VLOOKUP($A40,$S:$T,2,FALSE) -> Small | S40: 4100 | T40: Small
A41: 4101 | B41: Atikokan General Hospital | C41: Yes | D41: 1 | E41: NA | G41: North West | H41: 37 | I41: Atikokan General Hospital | J41: 600 | K41: North West | L41: 14 | M41: No | N41: Small | Q41: =N41=R41 -> TRUE | R41: =VLOOKUP($A41,$S:$T,2,FALSE) -> Small | S41: 4101 | T41: Small
A42: 4103 | B42: Cambridge Memorial Hospital | C42: Yes | E42: High-Volume Community Hospital | F42: 1003 | G42: West | H42: 31 | I42: Cambridge Memorial Hospital | J42: 661 | K42: Waterloo Wellington | L42: 3 | M42: Yes | N42: Large | O42: Yes | Q42: =N42=R42 -> TRUE | R42: =VLOOKUP($A42,$S:$T,2,FALSE) -> Large | S42: 4103 | T42: Large
A43: 4104 | B43: Erie Shores Healthcare | C43: Yes | E43: Medium-Volume Community Hospital | F43: 1002 | G43: West | H43: 31 | I43: Erie Shores Healthcare | J43: 704 | K43: Erie-St.Clair | L43: 1 | M43: Yes | N43: Large | O43: Yes | Q43: =N43=R43 -> TRUE | R43: =VLOOKUP($A43,$S:$T,2,FALSE) -> Large | S43: 4104 | T43: Large
A44: 4107 | B44: Grand River Hospital Corp-Waterloo Site | C44: Yes | E44: High-Volume Community Hospital | F44: 1003 | G44: West | H44: 31 | I44: Grand River Hospital Corporation | J44: 930 | K44: Waterloo Wellington | L44: 3 | M44: Yes | N44: Large | O44: Yes | Q44: =N44=R44 -> TRUE | R44: =VLOOKUP($A44,$S:$T,2,FALSE) -> Large | S44: 4107 | T44: Large
A45: 4108 | B45: Orillia Soldiers' Memorial Hospital | C45: Yes | E45: High-Volume Community Hospital | F45: 1003 | G45: Central | H45: 32 | I45: Orillia Soldiers' Memorial Hospital | J45: 745 | K45: North Simcoe Muskoka | L45: 12 | M45: Yes | N45: Large | O45: Yes | Q45: =N45=R45 -> TRUE | R45: =VLOOKUP($A45,$S:$T,2,FALSE) -> Large | S45: 4108 | T45: Large
A46: 4109 | B46: Bluewater Health-Sarnia General Site | C46: Yes | E46: High-Volume Community Hospital | F46: 1003 | G46: West | H46: 31 | I46: Bluewater Health | J46: 966 | K46: Erie-St.Clair | L46: 1 | M46: Yes | N46: Large | O46: Yes | Q46: =N46=R46 -> TRUE | R46: =VLOOKUP($A46,$S:$T,2,FALSE) -> Large | S46: 4109 | T46: Large
A47: 4112 | B47: Groves Memorial Community Hospital | C47: Yes | E47: Low-Volume Community Hospital | F47: 1001 | G47: West | H47: 31 | I47: Groves Memorial Community Hospital | J47: 656 | K47: Waterloo Wellington | L47: 3 | M47: No | N47: Small | O47: No | Q47: =N47=R47 -> TRUE | R47: =VLOOKUP($A47,$S:$T,2,FALSE) -> Small | S47: 4112 | T47: Small
A48: 4114 | B48: Wingham and District Hospital | C48: Yes | D48: 2 | E48: Very Low-Volume Community Hospital | F48: 1000 | G48: West | H48: 31 | I48: Wingham and District Hospital | J48: 889 | K48: South West | L48: 2 | M48: No | N48: Small | Q48: =N48=R48 -> TRUE | R48: =VLOOKUP($A48,$S:$T,2,FALSE) -> Small | S48: 4114 | T48: Small
A49: 4115 | B49: Listowel Memorial Hospital | C49: Yes | D49: 2 | E49: Very Low-Volume Community Hospital | F49: 1000 | G49: West | H49: 31 | I49: Listowel Memorial Hospital | J49: 709 | K49: South West | L49: 2 | M49: No | N49: Small | Q49: =N49=R49 -> TRUE | R49: =VLOOKUP($A49,$S:$T,2,FALSE) -> Small | S49: 4115 | T49: Small
A50: 4123 | B50: Timmins and District Hospital | C50: Yes | E50: Medium-Volume Community Hospital | F50: 1002 | G50: North East | H50: 36 | I50: Timmins & District General Hospital | J50: 907 | K50: North East | L50: 13 | M50: Yes | N50: Large | O50: Yes | Q50: =N50=R50 -> TRUE | R50: =VLOOKUP($A50,$S:$T,2,FALSE) -> Large | S50: 4123 | T50: Large
A51: 4124 | B51: Riverside Health Care Fac-Laverendrye | C51: Yes | D51: 2 | E51: NA | G51: North West | H51: 37 | I51: Riverside Health Care Facilities | J51: 900 | K51: North West | L51: 14 | M51: No | N51: Small | Q51: =N51=R51 -> TRUE | R51: =VLOOKUP($A51,$S:$T,2,FALSE) -> Small | S51: 4124 | T51: Small
A52: 4125 | B52: Riverside Health Care Fac-Emo Site | C52: No | E52: NA | G52: North West | H52: 37 | I52: Riverside Health Care Facilities | J52: 900 | K52: North West | L52: 14 | M52: No | Q52: =N52=R52 -> TRUE | R52: =VLOOKUP($A52,$S:$T,2,FALSE) | S52: 4125
A53: 4126 | B53: Riverside Health Care Fac-Rainy River | C53: Yes | D53: 2 | E53: NA | G53: North West | H53: 37 | I53: Riverside Health Care Facilities | J53: 900 | K53: North West | L53: 14 | M53: No | N53: Small | Q53: =N53=R53 -> TRUE | R53: =VLOOKUP($A53,$S:$T,2,FALSE) -> Small | S53: 4126 | T53: Small
A54: 4127 | B54: Four Counties Health Services Corp | C54: Yes | D54: 2 | E54: Very Low-Volume Community Hospital | F54: 1000 | G54: West | H54: 31 | I54: Four Counties Health Services Corporation | J54: 593 | K54: South West | L54: 2 | M54: No | N54: Small | O54: No | Q54: =N54=R54 -> TRUE | R54: =VLOOKUP($A54,$S:$T,2,FALSE) -> Small | S54: 4127 | T54: Small
A55: 4130 | B55: Hopital Montfort | C55: Yes | E55: Teaching Hospital | F55: 1006 | G55: East | H55: 34 | I55: Hopital Montfort | J55: 753 | K55: Champlain | L55: 11 | M55: No | N55: Large | O55: Yes | Q55: =N55=R55 -> TRUE | R55: =VLOOKUP($A55,$S:$T,2,FALSE) -> Large | S55: 4130 | T55: Large
A56: 4131 | B56: Brightshores Health System-Owen Sound Site | C56: Yes | E56: Medium-Volume Community Hospital | F56: 1002 | G56: West | H56: 31 | I56: Brightshores Health System | J56: 955 | K56: South West | L56: 2 | M56: No | N56: Large | O56: Yes | Q56: =N56=R56 -> TRUE | R56: =VLOOKUP($A56,$S:$T,2,FALSE) -> Large | S56: 4131 | T56: Large
A57: 4132 | B57: Brightshores Health System-Markdale Site | C57: Yes | E57: Very Low-Volume Community Hospital | F57: 1000 | G57: West | H57: 31 | I57: Brightshores Health System | J57: 955 | K57: South West | L57: 2 | M57: No | N57: Small | O57: No | Q57: =N57=R57 -> TRUE | R57: =VLOOKUP($A57,$S:$T,2,FALSE) -> Small | S57: 4132 | T57: Small
A58: 4133 | B58: Brightshores Health System-Meaford Site | C58: Yes | E58: Very Low-Volume Community Hospital | F58: 1000 | G58: West | H58: 31 | I58: Brightshores Health System | J58: 955 | K58: South West | L58: 2 | M58: No | N58: Small | O58: No | Q58: =N58=R58 -> TRUE | R58: =VLOOKUP($A58,$S:$T,2,FALSE) -> Small | S58: 4133 | T58: Small
A59: 4134 | B59: Brightshores Health System-Southampton Site | C59: Yes | E59: Very Low-Volume Community Hospital | F59: 1000 | G59: West | H59: 31 | I59: Brightshores Health System | J59: 955 | K59: South West | L59: 2 | M59: No | N59: Small | O59: No | Q59: =N59=R59 -> TRUE | R59: =VLOOKUP($A59,$S:$T,2,FALSE) -> Small | S59: 4134 | T59: Small
A60: 4135 | B60: Brightshores Health System-Wiarton Site | C60: Yes | E60: Very Low-Volume Community Hospital | F60: 1000 | G60: West | H60: 31 | I60: Brightshores Health System | J60: 955 | K60: South West | L60: 2 | M60: No | N60: Small | O60: No | Q60: =N60=R60 -> TRUE | R60: =VLOOKUP($A60,$S:$T,2,FALSE) -> Small | S60: 4135 | T60: Small
A61: 4137 | B61: Sioux Lookout Meno-Ya-Win Hlth Ctr | C61: Yes | D61: 2 | E61: NA | G61: North West | H61: 37 | I61: Sioux Lookout Meno-Ya-Win Health Centre | J61: 964 | K61: North West | L61: 14 | M61: No | N61: Small | Q61: =N61=R61 -> TRUE | R61: =VLOOKUP($A61,$S:$T,2,FALSE) -> Small | S61: 4137 | T61: Small
A62: 4138 | B62: Mackenzie Health-Richmond Hill Hospital | C62: Yes | E62: Very High-Volume Community Hospital | F62: 1004 | G62: Central | H62: 32 | I62: Mackenzie Health | J62: 701 | K62: Central | L62: 8 | M62: No | N62: Large | O62: Yes | Q62: =N62=R62 -> TRUE | R62: =VLOOKUP($A62,$S:$T,2,FALSE) -> Large | S62: 4138 | T62: Large
A63: 4141 | B63: Norfolk General Hospital | C63: Yes | E63: Low-Volume Community Hospital | F63: 1001 | G63: West | H63: 31 | I63: Norfolk General Hospital | J63: 804 | K63: Hamilton Niagara Haldimand Brant | L63: 4 | M63: No | N63: Small | O63: No | Q63: =N63=R63 -> TRUE | R63: =VLOOKUP($A63,$S:$T,2,FALSE) -> Small | S63: 4141 | T63: Small
A64: 4144 | B64: Joseph Brant Hospital | C64: Yes | E64: Medium-Volume Community Hospital | F64: 1002 | G64: West | H64: 31 | I64: Joseph Brant Hospital | J64: 718 | K64: Hamilton Niagara Haldimand Brant | L64: 4 | M64: Yes | N64: Large | O64: Yes | Q64: =N64=R64 -> TRUE | R64: =VLOOKUP($A64,$S:$T,2,FALSE) -> Large | S64: 4144 | T64: Large
A65: 4147 | B65: Sensenbrenner Hospital | C65: Yes | E65: Very Low-Volume Community Hospital | F65: 1000 | G65: North East | H65: 36 | I65: Sensenbrenner Hospital (The) | J65: 687 | K65: North East | L65: 13 | M65: No | N65: Small | O65: No | Q65: =N65=R65 -> TRUE | R65: =VLOOKUP($A65,$S:$T,2,FALSE) -> Small | S65: 4147 | T65: Small
A66: 4160 | B66: Strathroy Middlesex General Hospital | C66: Yes | E66: Low-Volume Community Hospital | F66: 1001 | G66: West | H66: 31 | I66: Strathroy Middlesex General Hospital | J66: 814 | K66: South West | L66: 2 | M66: No | N66: Small | O66: No | Q66: =N66=R66 -> TRUE | R66: =VLOOKUP($A66,$S:$T,2,FALSE) -> Small | S66: 4160 | T66: Small
A67: 4161 | B67: Headwaters Health Care Centre-Dufferin | C67: Yes | E67: Medium-Volume Community Hospital | F67: 1002 | G67: Central | H67: 32 | I67: Headwaters Health Care Centre | J67: 916 | K67: Central West | L67: 5 | M67: No | N67: Large | O67: Yes | Q67: =N67=R67 -> TRUE | R67: =VLOOKUP($A67,$S:$T,2,FALSE) -> Large | S67: 4161 | T67: Large
A68: 4163 | B68: Almonte General Hospital | C68: Yes | D68: 2 | E68: Very Low-Volume Community Hospital | F68: 1000 | G68: East | H68: 34 | I68: Almonte General Hospital | J68: 597 | K68: Champlain | L68: 11 | M68: No | N68: Small | Q68: =N68=R68 -> TRUE | R68: =VLOOKUP($A68,$S:$T,2,FALSE) -> Small | S68: 4163 | T68: Small
A69: 4166 | B69: Sante Manitouwadge Health | C69: Yes | D69: 2 | E69: NA | G69: North West | H69: 37 | I69: Sante Manitouwadge Health | J69: 719 | K69: North West | L69: 14 | M69: No | N69: Small | Q69: =N69=R69 -> TRUE | R69: =VLOOKUP($A69,$S:$T,2,FALSE) -> Small | S69: 4166 | T69: Small
A70: 4167 | B70: West Nipissing General Hospital | C70: Yes | E70: Very Low-Volume Community Hospital | F70: 1000 | G70: North East | H70: 36 | I70: West Nipissing General Hospital | J70: 881 | K70: North East | L70: 13 | M70: No | N70: Small | O70: No | Q70: =N70=R70 -> TRUE | R70: =VLOOKUP($A70,$S:$T,2,FALSE) -> Small | S70: 4167 | T70: Small
A71: 4169 | B71: Hopital Notre Dame Hospital (Hearst) | C71: Yes | E71: Very Low-Volume Community Hospital | F71: 1000 | G71: North East | H71: 36 | I71: Hopital Notre Dame Hospital (Hearst) | J71: 681 | K71: North East | L71: 13 | M71: No | N71: Small | O71: No | Q71: =N71=R71 -> TRUE | R71: =VLOOKUP($A71,$S:$T,2,FALSE) -> Small | S71: 4169 | T71: Small
A72: 4170 | B72: Lakeridge Health-Bowmanville Site | C72: Yes | E72: Medium-Volume Community Hospital | F72: 1002 | G72: East | H72: 34 | I72: Lakeridge Health | J72: 952 | K72: Central East | L72: 9 | M72: Yes | N72: Large | O72: Yes | Q72: =N72=R72 -> TRUE | R72: =VLOOKUP($A72,$S:$T,2,FALSE) -> Large | S72: 4170 | T72: Large
A73: 4171 | B73: Lakeridge Health-Oshawa Site | C73: Yes | E73: Very High-Volume Community Hospital | F73: 1004 | G73: East | H73: 34 | I73: Lakeridge Health | J73: 952 | K73: Central East | L73: 9 | M73: Yes | N73: Large | O73: Yes | Q73: =N73=R73 -> TRUE | R73: =VLOOKUP($A73,$S:$T,2,FALSE) -> Large | S73: 4171 | T73: Large
A74: 4172 | B74: Lakeridge Health-Port Perry Site | C74: Yes | E74: Very Low-Volume Community Hospital | F74: 1000 | G74: East | H74: 34 | I74: Lakeridge Health | J74: 952 | K74: Central East | L74: 9 | M74: No | N74: Small | O74: No | Q74: =N74=R74 -> TRUE | R74: =VLOOKUP($A74,$S:$T,2,FALSE) -> Small | S74: 4172 | T74: Small
A75: 4175 | B75: St. Francis Memorial Hospital | C75: Yes | D75: 2 | E75: Very Low-Volume Community Hospital | F75: 1000 | G75: East | H75: 34 | I75: St. Francis Memorial Hospital | J75: 768 | K75: Champlain | L75: 11 | M75: No | N75: Small | Q75: =N75=R75 -> TRUE | R75: =VLOOKUP($A75,$S:$T,2,FALSE) -> Small | S75: 4175 | T75: Small
A76: 4177 | B76: Ross Memorial Hospital | C76: Yes | E76: Medium-Volume Community Hospital | F76: 1002 | G76: East | H76: 34 | I76: Ross Memorial Hospital | J76: 707 | K76: Central East | L76: 9 | M76: Yes | N76: Large | O76: Yes | Q76: =N76=R76 -> TRUE | R76: =VLOOKUP($A76,$S:$T,2,FALSE) -> Large | S76: 4177 | T76: Large
A77: 4180 | B77: St. Mary's General Hospital | C77: Yes | E77: High-Volume Community Hospital | F77: 1003 | G77: West | H77: 31 | I77: St. Mary's General Hospital | J77: 699 | K77: Waterloo Wellington | L77: 3 | M77: Yes | N77: Large | O77: Yes | Q77: =N77=R77 -> TRUE | R77: =VLOOKUP($A77,$S:$T,2,FALSE) -> Large | S77: 4180 | T77: Large
A78: 4181 | B78: Deep River and District Hospital | C78: Yes | D78: 2 | E78: NA | G78: East | H78: 34 | I78: Deep River and District Health | J78: 646 | K78: Champlain | L78: 11 | M78: No | N78: Small | Q78: =N78=R78 -> TRUE | R78: =VLOOKUP($A78,$S:$T,2,FALSE) -> Small | S78: 4181 | T78: Small
A79: 4182 | B79: Nipigon District Memorial Hospital | C79: Yes | D79: 2 | E79: NA | G79: North West | H79: 37 | I79: Nipigon District Memorial Hospital | J79: 739 | K79: North West | L79: 14 | M79: No | N79: Small | Q79: =N79=R79 -> TRUE | R79: =VLOOKUP($A79,$S:$T,2,FALSE) -> Small | S79: 4182 | T79: Small
A80: 4183 | B80: Niagara Health System-Port Colborne Site | C80: Yes | E80: Urgent Care Centre | F80: 1007 | G80: West | H80: 31 | I80: Niagara Health System | J80: 962 | K80: Hamilton Niagara Haldimand Brant | L80: 4 | M80: No | O80: No | Q80: =N80=R80 -> TRUE | R80: =VLOOKUP($A80,$S:$T,2,FALSE) | S80: 4183
A81: 4184 | B81: Renfrew Victoria Hospital | C81: Yes | E81: Low-Volume Community Hospital | F81: 1001 | G81: East | H81: 34 | I81: Renfrew Victoria Hospital | J81: 788 | K81: Champlain | L81: 11 | M81: No | N81: Small | O81: No | Q81: =N81=R81 -> TRUE | R81: =VLOOKUP($A81,$S:$T,2,FALSE) -> Small | S81: 4184 | T81: Small
A82: 4185 | B82: Lady Minto Hospital (The) | C82: Yes | D82: 2 | E82: NA | G82: North East | H82: 36 | I82: Lady Minto Hospital (The) | J82: 638 | K82: North East | L82: 13 | M82: No | N82: Small | Q82: =N82=R82 -> TRUE | R82: =VLOOKUP($A82,$S:$T,2,FALSE) -> Small | S82: 4185 | T82: Small
A83: 4186 | B83: Brockville General Hospital | C83: Yes | E83: Low-Volume Community Hospital | F83: 1001 | G83: East | H83: 34 | I83: Brockville General Hospital | J83: 619 | K83: South East | L83: 10 | M83: No | N83: Small | O83: No | Q83: =N83=R83 -> TRUE | R83: =VLOOKUP($A83,$S:$T,2,FALSE) -> Small | S83: 4186 | T83: Small
A84: 4187 | B84: Mattawa General Hospital | C84: Yes | D84: 2 | E84: NA | G84: North East | H84: 36 | I84: Mattawa General Hospital | J84: 724 | K84: North East | L84: 13 | M84: No | N84: Small | Q84: =N84=R84 -> TRUE | R84: =VLOOKUP($A84,$S:$T,2,FALSE) -> Small | S84: 4187 | T84: Small
A85: 4188 | B85: Carleton Place and District Mem Hospital | C85: Yes | D85: 2 | E85: NA | G85: East | H85: 34 | I85: Carleton Place and District Memorial Hospital | J85: 626 | K85: Champlain | L85: 11 | M85: No | N85: Small | O85: No | Q85: =N85=R85 -> TRUE | R85: =VLOOKUP($A85,$S:$T,2,FALSE) -> Small | S85: 4188 | T85: Small
A86: 4189 | B86: Hanover and District Hospital | C86: Yes | E86: Very Low-Volume Community Hospital | F86: 1000 | G86: West | H86: 31 | I86: Hanover And District Hospital | J86: 676 | K86: South West | L86: 2 | M86: No | N86: Small | O86: No | Q86: =N86=R86 -> TRUE | R86: =VLOOKUP($A86,$S:$T,2,FALSE) -> Small | S86: 4189 | T86: Small
A87: 4190 | B87: Hornepayne Community Hospital | C87: No | E87: NA | G87: North East | H87: 36 | I87: Hornepayne Community Hospital | J87: 682 | K87: North East | L87: 13 | M87: No | N87: Small | Q87: =N87=R87 -> TRUE | R87: =VLOOKUP($A87,$S:$T,2,FALSE) -> Small | S87: 4190 | T87: Small
A88: 4191 | B88: CLOSED | C88: No | E88: NA | G88: East | H88: 34 | I88: CLOSED | J88: 938 | K88: Central East | L88: 9 | M88: No | Q88: =N88=R88 -> TRUE | R88: =VLOOKUP($A88,$S:$T,2,FALSE) | S88: 4191
A89: 4192 | B89: Halton Healthcare Services Corp-Oakville | C89: Yes | E89: High-Volume Community Hospital | F89: 1003 | G89: Central | H89: 32 | I89: Halton Healthcare Services Corporation | J89: 950 | K89: Mississauga Halton | L89: 6 | M89: Yes | N89: Large | O89: Yes | Q89: =N89=R89 -> TRUE | R89: =VLOOKUP($A89,$S:$T,2,FALSE) -> Large | S89: 4192 | T89: Large
A90: 4193 | B90: Halton Healthcare Services Corp-Milton | C90: Yes | E90: Medium-Volume Community Hospital | F90: 1002 | G90: Central | H90: 32 | I90: Halton Healthcare Services Corporation | J90: 950 | K90: Mississauga Halton | L90: 6 | M90: Yes | N90: Large | O90: Yes | Q90: =N90=R90 -> TRUE | R90: =VLOOKUP($A90,$S:$T,2,FALSE) -> Large | S90: 4193 | T90: Large
A91: 4194 | B91: Kemptville District Hospital | C91: Yes | D91: 2 | E91: NA | G91: East | H91: 34 | I91: Kemptville District Hospital | J91: 732 | K91: Champlain | L91: 11 | M91: No | N91: Small | Q91: =N91=R91 -> TRUE | R91: =VLOOKUP($A91,$S:$T,2,FALSE) -> Small | S91: 4194 | T91: Small
A92: 4195 | B92: Smooth Rock Falls Hospital | C92: Yes | D92: 2 | E92: NA | G92: North East | H92: 36 | I92: Smooth Rock Falls Hospital | J92: 809 | K92: North East | L92: 13 | M92: No | N92: Small | Q92: =N92=R92 -> TRUE | R92: =VLOOKUP($A92,$S:$T,2,FALSE) -> Small | S92: 4195 | T92: Small
A93: 4196 | B93: Red Lake Marg Cochenour Mem Hosp (The) | C93: Yes | D93: 2 | E93: NA | G93: North West | H93: 37 | I93: Red Lake Margaret Cochenour Memorial Hospital (The) | J93: 896 | K93: North West | L93: 14 | M93: No | N93: Small | Q93: =N93=R93 -> TRUE | R93: =VLOOKUP($A93,$S:$T,2,FALSE) -> Small | S93: 4196 | T93: Small
A94: 4197 | B94: Collingwood General and Marine Hospital | C94: Yes | E94: Medium-Volume Community Hospital | F94: 1002 | G94: Central | H94: 32 | I94: Collingwood General and Marine Hospital | J94: 640 | K94: North Simcoe Muskoka | L94: 12 | M94: No | N94: Large | O94: Yes | Q94: =N94=R94 -> TRUE | R94: =VLOOKUP($A94,$S:$T,2,FALSE) -> Large | S94: 4197 | T94: Large
A95: 4198 | B95: Arnprior Regional Health | C95: Yes | D95: 2 | E95: NA | G95: East | H95: 34 | I95: Arnprior Regional Health | J95: 599 | K95: Champlain | L95: 11 | M95: No | N95: Small | Q95: =N95=R95 -> TRUE | R95: =VLOOKUP($A95,$S:$T,2,FALSE) -> Small | S95: 4198 | T95: Small
A96: 4200 | B96: Lake-of-the-Woods District Hospital | C96: Yes | E96: Low-Volume Community Hospital | F96: 1001 | G96: North West | H96: 37 | I96: Lake-of-the-Woods District Hospital | J96: 826 | K96: North West | L96: 14 | M96: No | N96: Small | O96: No | Q96: =N96=R96 -> TRUE | R96: =VLOOKUP($A96,$S:$T,2,FALSE) -> Small | S96: 4200 | T96: Small
A97: 4201 | B97: Manitoulin Health Centre-Little Current | C97: Yes | D97: 2 | E97: NA | G97: North East | H97: 36 | I97: Manitoulin Health Centre | J97: 784 | K97: North East | L97: 13 | M97: No | N97: Small | Q97: =N97=R97 -> TRUE | R97: =VLOOKUP($A97,$S:$T,2,FALSE) -> Small | S97: 4201 | T97: Small
A98: 4202 | B98: Manitoulin Health Centre-Mindemoya Unit | C98: Yes | D98: 2 | E98: NA | G98: North East | H98: 36 | I98: Manitoulin Health Centre | J98: 784 | K98: North East | L98: 13 | M98: No | N98: Small | Q98: =N98=R98 -> TRUE | R98: =VLOOKUP($A98,$S:$T,2,FALSE) -> Small | S98: 4202 | T98: Small
A99: 4203 | B99: Services De Sante De Chapleau Hlth Serv | C99: Yes | D99: 2 | E99: NA | G99: North East | H99: 36 | I99: Services De Sante De Chapleau Health Services | J99: 627 | K99: North East | L99: 13 | M99: No | N99: Small | Q99: =N99=R99 -> TRUE | R99: =VLOOKUP($A99,$S:$T,2,FALSE) -> Small | S99: 4203 | T99: Small
A100: 4205 | B100: Sunnybrook Health Sciences Centre | C100: Yes | E100: Teaching Hospital | F100: 1006 | G100: Toronto | H100: 33 | I100: Sunnybrook Health Sciences Centre | J100: 953 | K100: Toronto Central | L100: 7 | M100: Yes | N100: Large | O100: Yes | Q100: =N100=R100 -> TRUE | R100: =VLOOKUP($A100,$S:$T,2,FALSE) -> Large | S100: 4205 | T100: Large
...
