Workbook
Name _MailEndCompose: 'Monthly DQ Notes'!#REF!
Name ad_hospital: #REF!
Name baseline: #REF!
Name current: #REF!
Name currentperiod: #REF!
Name data: #REF!
Name facility_list: #REF!
Name facility_number: #REF!
Name Hosp_name: #REF!
Name LastDay: #REF!
Name LHIN_LIST: #REF!
Name LHIN_NUMBER: #REF!
Name lookup: #REF!
Name lookupc: #REF!
Name lookupr: #REF!
Name masterfile: #REF!
Name open: #REF!
Name previous: #REF!
Name previousperiod: #REF!
Name previouspreviousperiod: #REF!
Name site: #REF!

Sheet Title Page
C10: Emergency Department
C14: Data Quality Notes (NACRS) - Up to October 2025 data
C15: Facility Level
C29: Prepared by: Data Quality & Compliance

Sheet Monthly DQ Notes
B3: ED Data Quality Notes
B4: Reporting Period: October data
B5: Data Source: CIHI NACRS
B6: Please see the table below regarding which months of data are refreshed in this report:
B7: Fiscal Year of ED Data | C7: Month of ED Data | D7: NACRS submission deadline date | E7: Historical Data Refreshed
B8: FY 2022-23 | C8: April 2022 - March 2023 | D8: May 31, 2023 | E8: No
B9: FY 2023-24 | C9: April 2023 - March 2024 | D9: May 31, 2024 | E9: No
B10: FY 2024-25 | C10: April 2024 - March 2025 | D10: May 31, 2025 | E10: No
B11: FY 2025-26 | C11: April - October 2025 | D11: November 17, 2025 | E11: Yes
B12: Important Notes: 1. The data quality designations and data quality notes pertain to the monthly ED data submitted by facilities to CIHI on the 10th business day of the month and received by Ontario Health on the 12th business day of the month following the reporting period. The data quality designations are displayed for all historic months (except for percent usable records to calculate wait times, which are applied automatically as RI in the performance reports) and the data quality notes are displayed for the most recent reporting month. 2. Sites that are identified as RI (Reporting Issue) will not have ED data shown in the report. However, the ED data for sites identified as RI (Reporting Issue) will be included in their respective Region and Sub-region as well as overall provincial ED information. In addition, NS (No Service) designation was given to facilities that are not required to report or no service offered. 3. Please note that the data quality and compliance process for ED data is performed at the site level, and that this data issue may affect results at the Facility/Sub-region/Region/Provincial level.
B13: Current Open Fiscal Year
A14: Date | B14: Data Month | C14: Site Name | D14: Site Number | E14: Region | F14: Data Quality Notes | G14: Designation | H14: Indicator | I14: Indicator Short Name | J14: Type | K14: site number | L14: p4r | M14: lhin name | N14: lhin number | O14: cdu | P14: Info
A15: =B15 -> 45931 | B15: 45931 | C15: Blanche River Health-Englehart | D15: 5533 | E15: North East | F15: Data Stabilization Period | G15: RI | H15: Reported ED volumes | I15: VOL | J15: DQ_VOL | K15: 5533 | L15: =VLOOKUP($K15,sitelist!$A:$N,14,FALSE) -> Small | M15: North East | N15: 13 | O15: No
A16: =B16 -> 45931 | B16: 45931 | C16: Blanche River Health-Kirkland | D16: 5538 | E16: North East | F16: Data Stabilization Period | G16: RI | H16: Reported ED volumes | I16: VOL | J16: DQ_VOL | K16: 5538 | L16: =VLOOKUP($K16,sitelist!$A:$N,14,FALSE) -> Small | M16: North East | N16: 13 | O16: No
A17: =B17 -> 45931 | B17: 45931 | C17: Brant Community Healthcare Sys-Brantford | D17: 4679 | E17: West | F17: Data confirmed as inaccurate | G17: RI | H17: Reported ED volumes | I17: VOL | J17: DQ_VOL | K17: 4679 | L17: =VLOOKUP($K17,sitelist!$A:$N,14,FALSE) -> Large | M17: Hamilton Niagara Haldimand Brant | N17: 4 | O17: Yes
A18: =B18 -> 45931 | B18: 45931 | C18: Perth and Smiths Falls Dist-Perth Site | D18: 4251 | E18: East | F18: Data was not submitted by the deadline | G18: RI | H18: Reported ED volumes | I18: VOL | J18: DQ_VOL | K18: 4251 | L18: =VLOOKUP($K18,sitelist!$A:$N,14,FALSE) -> Small | M18: South East | N18: 10 | O18: No
A19: =B19 -> 45931 | B19: 45931 | C19: Perth and Smiths Falls Dist-Smiths Falls | D19: 4316 | E19: East | F19: Data was not submitted by the deadline | G19: RI | H19: Reported ED volumes | I19: VOL | J19: DQ_VOL | K19: 4316 | L19: =VLOOKUP($K19,sitelist!$A:$N,14,FALSE) -> Small | M19: South East | N19: 10 | O19: No
A20: =B20 -> 45931 | B20: 45931 | C20: Sante Manitouwadge Health | D20: 4166 | E20: North West | F20: Data was not submitted by the deadline | G20: RI | H20: Reported ED volumes | I20: VOL | J20: DQ_VOL | K20: 4166 | L20: =VLOOKUP($K20,sitelist!$A:$N,14,FALSE) -> Small | M20: North West | N20: 14 | O20: No
A21: =B21 -> 45931 | B21: 45931 | C21: Smooth Rock Falls Hospital | D21: 4195 | E21: North East | F21: Data Stabilization Period | G21: RI | H21: Reported ED volumes | I21: VOL | J21: DQ_VOL | K21: 4195 | L21: =VLOOKUP($K21,sitelist!$A:$N,14,FALSE) -> Small | M21: North East | N21: 13 | O21: No
A22: =B22 -> 45931 | B22: 45931 | C22: Weeneebayko Area Hlth Auth-Moose Factory | D22: 4699 | E22: North East | F22: Data Stabilization Period | G22: RI | H22: Reported ED volumes | I22: VOL | J22: DQ_VOL | K22: 4699 | L22: =VLOOKUP($K22,sitelist!$A:$N,14,FALSE) -> Small | M22: North East | N22: 13 | O22: No
A23: =B23 -> 45931 | B23: 45931 | C23: Wingham and District Hospital | D23: 4114 | E23: West | F23: Data was not submitted by the deadline | G23: RI | H23: Reported ED volumes | I23: VOL | J23: DQ_VOL | K23: 4114 | L23: =VLOOKUP($K23,sitelist!$A:$N,14,FALSE) -> Small | M23: South West | N23: 2 | O23: No
A24: =B24 -> 45931 | B24: 45931 | C24: Hanover and District Hospital | D24: 4189 | E24: West | F24: Insufficent number of usable records | G24: RI | H24: Time to Disposition Decision | I24: Usability_DISP | J24: DQ_IPB | K24: 4189 | L24: =VLOOKUP($K24,sitelist!$A:$N,14,FALSE) -> Small | M24: South West | N24: 2 | O24: No
A25: =B25 -> 45931 | B25: 45931 | C25: Haldimand War Memorial Hospital | D25: 4070 | E25: West | F25: Data Quality concerns | G25: RI | H25: Time to Inpatient Bed | I25: P4R_IPB | J25: DQ_IPB | K25: 4070 | L25: =VLOOKUP($K25,sitelist!$A:$N,14,FALSE) -> Small | M25: Hamilton Niagara Haldimand Brant | N25: 4 | O25: No
A26: =B26 -> 45931 | B26: 45931 | C26: Sinai Health System-Mount Sinai Site | D26: 4805 | E26: Toronto | F26: Data confirmed as inaccurate | G26: RI | H26: Time to Inpatient Bed | I26: Usability_IPB | J26: DQ_IPB | K26: 4805 | L26: =VLOOKUP($K26,sitelist!$A:$N,14,FALSE) -> Large | M26: Toronto Central | N26: 7 | O26: Yes
... A50: =B50 -> 45931 | B50: 45931 | C50: Unity Health Toronto-St. Michael's | D50: 4864 | E50: Toronto | F50: System implementation/upgrade and data quality concerns | G50: DQN | H50: Reported ED volumes | I50: VOL | J50: DQ_VOL | K50: 4864 | L50: =VLOOKUP($K50,sitelist!$A:$N,14,FALSE) -> Large | M50: Toronto Central | N50: 7 | O50: No
A51: =B51 -> 45931 | B51: 45931 | C51: Alexandra Hospital | D51: 4058 | E51: West | F51: Incomplete data, below threshold | G51: DQN | H51: PIA OR NPIA date and time | I51: Completeness_PIA | J51: DQ_PIA | K51: 4058 | L51: Small | M51: South West | N51: 2 | O51: Yes
A52: =B52 -> 45931 | B52: 45931 | C52: Alexandra Hospital | D52: 4058 | E52: West | F52: Incomplete data, below threshold | G52: DQN | H52: Patient Left ED date and time | I52: Completeness_LEFTED | J52: DQ_LOS | K52: 4058 | L52: Small | M52: South West | N52: 2 | O52: Yes
A53: =B53 -> 45931 | B53: 45931 | C53: Brightshores Health System-Lions Head Site | D53: 4377 | E53: West | F53: Incomplete data, below threshold | G53: DQN | H53: PIA OR NPIA date and time | I53: Completeness_PIA | J53: DQ_PIA | K53: 4377 | L53: Small | M53: South West | N53: 2 | O53: No
A54: =B54 -> 45931 | B54: 45931 | C54: Brightshores Health System-Southampton Site | D54: 4134 | E54: West | F54: Incomplete data, below threshold | G54: DQN | H54: PIA OR NPIA date and time | I54: Completeness_PIA | J54: DQ_PIA | K54: 4134 | L54: Small | M54: South West | N54: 2 | O54: No
A55: =B55 -> 45931 | B55: 45931 | C55: Brightshores Health System-Wiarton Site | D55: 4135 | E55: West | F55: Incomplete data, below threshold | G55: DQN | H55: PIA OR NPIA date and time | I55: Completeness_PIA | J55: DQ_PIA | K55: 4135 | L55: Small | M55: South West | N55: 2 | O55: No
A56: =B56 -> 45931 | B56: 45931 | C56: Four Counties Health Services Corp | D56: 4127 | E56: West | F56: Incomplete data, below threshold | G56: DQN | H56: Ambulance Transfer of Care date and time | I56: Completeness_AMBT | J56: DQ_AOT | K56: 4127 | L56: Small | M56: South West | N56: 2 | O56: No
A57: =B57 -> 45931 | B57: 45931 | C57: Geraldton District Hospital | D57: 4257 | E57: North West | F57: Incomplete data, below threshold | G57: DQN | H57: Ambulance Arrival date and time | I57: Completeness_AMBA | J57: DQ_AOT | K57: 4257 | L57: Small | M57: North West | N57: 14 | O57: No
A58: =B58 -> 45931 | B58: 45931 | C58: Haldimand War Memorial Hospital | D58: 4070 | E58: West | F58: Incomplete data, below threshold | G58: DQN | H58: Ambulance Arrival date and time | I58: Completeness_AMBA | J58: DQ_AOT | K58: 4070 | L58: Small | M58: Hamilton Niagara Haldimand Brant | N58: 4 | O58: No
A59: =B59 -> 45931 | B59: 45931 | C59: Haldimand War Memorial Hospital | D59: 4070 | E59: West | F59: Incomplete data, below threshold | G59: DQN | H59: Ambulance Transfer of Care date and time | I59: Completeness_AMBT | J59: DQ_AOT | K59: 4070 | L59: Small | M59: Hamilton Niagara Haldimand Brant | N59: 4 | O59: No
A60: =B60 -> 45931 | B60: 45931 | C60: Hanover and District Hospital | D60: 4189 | E60: West | F60: Incomplete data, below threshold | G60: DQN | H60: Disposition date and time | I60: Completeness_DISP | J60: DQ_IPB | K60: 4189 | L60: Small | M60: South West | N60: 2 | O60: No
A61: =B61 -> 45931 | B61: 45931 | C61: Hanover and District Hospital | D61: 4189 | E61: West | F61: Incomplete data, below threshold | G61: DQN | H61: Patient Left ED date and time | I61: Completeness_LEFTED | J61: DQ_LOS | K61: 4189 | L61: Small | M61: South West | N61: 2 | O61: No
A62: =B62 -> 45931 | B62: 45931 | C62: Huron Perth Healthcare Alliance-Seaforth | D62: 7553 | E62: West | F62: Incomplete data, below threshold | G62: DQN | H62: Ambulance Arrival date and time | I62: Completeness_AMBA | J62: DQ_AOT | K62: 7553 | L62: Small | M62: South West | N62: 2 | O62: No
... A94: =B94 -> 45931 | B94: 45931 | C94: West Haldimand General Hospital | D94: 4088 | E94: West | F94: Incomplete data, below threshold | G94: DQN | H94: Ambulance Transfer of Care date and time | I94: Completeness_AMBT | J94: DQ_AOT | K94: 4088 | L94: Small | M94: Hamilton Niagara Haldimand Brant | N94: 4 | O94: No
A95: =B95 -> 45901 | B95: 45901 | C95: Blanche River Health-Englehart | D95: 5533 | E95: North East | F95: Data Stabilization Period | G95: RI | H95: Reported ED volumes | I95: VOL | J95: DQ_VOL | K95: 5533 | L95: =VLOOKUP($K95,sitelist!$A:$N,14,FALSE) -> Small | M95: North East | N95: 13 | O95: No
A96: =B96 -> 45901 | B96: 45901 | C96: Blanche River Health-Kirkland | D96: 5538 | E96: North East | F96: Data Stabilization Period | G96: RI | H96: Reported ED volumes | I96: VOL | J96: DQ_VOL | K96: 5538 | L96: =VLOOKUP($K96,sitelist!$A:$N,14,FALSE) -> Small | M96: North East | N96: 13 | O96: No
...

Sheet Monthly DQ Notes_PBI
A1: period | B1: edcd | C1: DQ | D1: notes | E1: type | F1: Indicator Short Name | G1: Period_EDCD_Type | H1: Duplicate based on column G
A2: ='Monthly DQ Notes'!A15 -> 45931 | B2: ='Monthly DQ Notes'!D15 -> 5533 | C2: ='Monthly DQ Notes'!G15 -> RI | D2: ='Monthly DQ Notes'!F15 -> Data Stabilization Period | E2: ='Monthly DQ Notes'!J15 -> DQ_VOL | F2: ='Monthly DQ Notes'!I15 -> VOL | G2: =A2&"_"&B2&"_"&E2 -> 45931_5533_DQ_VOL | H2: =IF(COUNTIF(G$2:G2,G2)>1,"Duplicate","Single") -> Single
A3: ='Monthly DQ Notes'!A16 -> 45931 | B3: ='Monthly DQ Notes'!D16 -> 5538 | C3: ='Monthly DQ Notes'!G16 -> RI | D3: ='Monthly DQ Notes'!F16 -> Data Stabilization Period | E3: ='Monthly DQ Notes'!J16 -> DQ_VOL | F3: ='Monthly DQ Notes'!I16 -> VOL | G3: =A3&"_"&B3&"_"&E3 -> 45931_5538_DQ_VOL | H3: =IF(COUNTIF(G$2:G3,G3)>1,"Duplicate","Single") -> Single
A4: ='Monthly DQ Notes'!A17 -> 45931 | B4: ='Monthly DQ Notes'!D17 -> 4679 | C4: ='Monthly DQ Notes'!G17 -> RI | D4: ='Monthly DQ Notes'!F17 -> Data confirmed as inaccurate | E4: ='Monthly DQ Notes'!J17 -> DQ_VOL | F4: ='Monthly DQ Notes'!I17 -> VOL | G4: =A4&"_"&B4&"_"&E4 -> 45931_4679_DQ_VOL | H4: =IF(COUNTIF(G$2:G4,G4)>1,"Duplicate","Single") -> Single
A5: ='Monthly DQ Notes'!A18 -> 45931 | B5: ='Monthly DQ Notes'!D18 -> 4251 | C5: ='Monthly DQ Notes'!G18 -> RI | D5: ='Monthly DQ Notes'!F18 -> Data was not submitted by the deadline | E5: ='Monthly DQ Notes'!J18 -> DQ_VOL | F5: ='Monthly DQ Notes'!I18 -> VOL | G5: =A5&"_"&B5&"_"&E5 -> 45931_4251_DQ_VOL | H5: =IF(COUNTIF(G$2:G5,G5)>1,"Duplicate","Single") -> Single
A6: ='Monthly DQ Notes'!A19 -> 45931 | B6: ='Monthly DQ Notes'!D19 -> 4316 | C6: ='Monthly DQ Notes'!G19 -> RI | D6: ='Monthly DQ Notes'!F19 -> Data was not submitted by the deadline | E6: ='Monthly DQ Notes'!J19 -> DQ_VOL | F6: ='Monthly DQ Notes'!I19 -> VOL | G6: =A6&"_"&B6&"_"&E6 -> 45931_4316_DQ_VOL | H6: =IF(COUNTIF(G$2:G6,G6)>1,"Duplicate","Single") -> Single
A7: ='Monthly DQ Notes'!A20 -> 45931 | B7: ='Monthly DQ Notes'!D20 -> 4166 | C7: ='Monthly DQ Notes'!G20 -> RI | D7: ='Monthly DQ Notes'!F20 -> Data was not submitted by the deadline | E7: ='Monthly DQ Notes'!J20 -> DQ_VOL | F7: ='Monthly DQ Notes'!I20 -> VOL | G7: =A7&"_"&B7&"_"&E7 -> 45931_4166_DQ_VOL | H7: =IF(COUNTIF(G$2:G7,G7)>1,"Duplicate","Single") -> Single
A8: ='Monthly DQ Notes'!A21 -> 45931 | B8: ='Monthly DQ Notes'!D21 -> 4195 | C8: ='Monthly DQ Notes'!G21 -> RI | D8: ='Monthly DQ Notes'!F21 -> Data Stabilization Period | E8: ='Monthly DQ Notes'!J21 -> DQ_VOL | F8: ='Monthly DQ Notes'!I21 -> VOL | G8: =A8&"_"&B8&"_"&E8 -> 45931_4195_DQ_VOL | H8: =IF(COUNTIF(G$2:G8,G8)>1,"Duplicate","Single") -> Single
A9: ='Monthly DQ Notes'!A22 -> 45931 | B9: ='Monthly DQ Notes'!D22 -> 4699 | C9: ='Monthly DQ Notes'!G22 -> RI | D9: ='Monthly DQ Notes'!F22 -> Data Stabilization Period | E9: ='Monthly DQ Notes'!J22 -> DQ_VOL | F9: ='Monthly DQ Notes'!I22 -> VOL | G9: =A9&"_"&B9&"_"&E9 -> 45931_4699_DQ_VOL | H9: =IF(COUNTIF(G$2:G9,G9)>1,"Duplicate","Single") -> Single
A10: ='Monthly DQ Notes'!A23 -> 45931 | B10: ='Monthly DQ Notes'!D23 -> 4114 | C10: ='Monthly DQ Notes'!G23 -> RI | D10: ='Monthly DQ Notes'!F23 -> Data was not submitted by the deadline | E10: ='Monthly DQ Notes'!J23 -> DQ_VOL | F10: ='Monthly DQ Notes'!I23 -> VOL | G10: =A10&"_"&B10&"_"&E10 -> 45931_4114_DQ_VOL | H10: =IF(COUNTIF(G$2:G10,G10)>1,"Duplicate","Single") -> Single
A11: ='Monthly DQ Notes'!A24 -> 45931 | B11: ='Monthly DQ Notes'!D24 -> 4189 | C11: ='Monthly DQ Notes'!G24 -> RI | D11: ='Monthly DQ Notes'!F24 -> Insufficent number of usable records | E11: ='Monthly DQ Notes'!J24 -> DQ_IPB | F11: ='Monthly DQ Notes'!I24 -> Usability_DISP | G11: =A11&"_"&B11&"_"&E11 -> 45931_4189_DQ_IPB | H11: =IF(COUNTIF(G$2:G11,G11)>1,"Duplicate","Single") -> Single
A12: ='Monthly DQ Notes'!A25 -> 45931 | B12: ='Monthly DQ Notes'!D25 -> 4070 | C12: ='Monthly DQ Notes'!G25 -> RI | D12: ='Monthly DQ Notes'!F25 -> Data Quality concerns | E12: ='Monthly DQ Notes'!J25 -> DQ_IPB | F12: ='Monthly DQ Notes'!I25 -> P4R_IPB | G12: =A12&"_"&B12&"_"&E12 -> 45931_4070_DQ_IPB | H12: =IF(COUNTIF(G$2:G12,G12)>1,"Duplicate","Single") -> Single
A13: ='Monthly DQ Notes'!A26 -> 45931 | B13: ='Monthly DQ Notes'!D26 -> 4805 | C13: ='Monthly DQ Notes'!G26 -> RI | D13: ='Monthly DQ Notes'!F26 -> Data confirmed as inaccurate | E13: ='Monthly DQ Notes'!J26 -> DQ_IPB | F13: ='Monthly DQ Notes'!I26 -> Usability_IPB | G13: =A13&"_"&B13&"_"&E13 -> 45931_4805_DQ_IPB | H13: =IF(COUNTIF(G$2:G13,G13)>1,"Duplicate","Single") -> Single
... A279: ='Monthly DQ Notes'!A292 -> 45748 | B279: ='Monthly DQ Notes'!D292 -> 4823 | C279: ='Monthly DQ Notes'!G292 -> DQN | D279: ='Monthly DQ Notes'!F292 -> Data Quality concerns | E279: ='Monthly DQ Notes'!J292 -> DQ_IPB | F279: ='Monthly DQ Notes'!I292 -> Defaulting_IPB | G279: =A279&"_"&B279&"_"&E279 -> 45748_4823_DQ_IPB | H279: =IF(COUNTIF(G$2:G279,G279)>1,"Duplicate","Single") -> Duplicate
A280: Past Fiscal Years
A281: Data Month | B281: Site Name | C281: Site Number | D281: Region | E281: Data Quality Notes | F281: Designation
A282: ='Monthly DQ Notes'!A295 -> 45717 | B282: ='Monthly DQ Notes'!D295 -> 5533 | C282: ='Monthly DQ Notes'!G295 -> RI | D282: ='Monthly DQ Notes'!F295 -> Data Stabilization Period | E282: ='Monthly DQ Notes'!J295 -> DQ_VOL | F282: ='Monthly DQ Notes'!I295 -> VOL | G282: =A282&"_"&B282&"_"&E282 -> 45717_5533_DQ_VOL | H282: =IF(COUNTIF(G$2:G282,G282)>1,"Duplicate","Single") -> Single
A283: ='Monthly DQ Notes'!A296 -> 45717 | B283: ='Monthly DQ Notes'!D296 -> 5538 | C283: ='Monthly DQ Notes'!G296 -> RI | D283: ='Monthly DQ Notes'!F296 -> Data Stabilization Period | E283: ='Monthly DQ Notes'!J296 -> DQ_VOL | F283: ='Monthly DQ Notes'!I296 -> VOL | G283: =A283&"_"&B283&"_"&E283 -> 45717_5538_DQ_VOL | H283: =IF(COUNTIF(G$2:G283,G283)>1,"Duplicate","Single") -> Single
A284: ='Monthly DQ Notes'!A297 -> 45717 | B284: ='Monthly DQ Notes'!D297 -> 4195 | C284: ='Monthly DQ Notes'!G297 -> RI | D284: ='Monthly DQ Notes'!F297 -> Data Stabilization Period | E284: ='Monthly DQ Notes'!J297 -> DQ_VOL | F284: ='Monthly DQ Notes'!I297 -> VOL | G284: =A284&"_"&B284&"_"&E284 -> 45717_4195_DQ_VOL | H284: =IF(COUNTIF(G$2:G284,G284)>1,"Duplicate","Single") -> Single
A285: ='Monthly DQ Notes'!A298 -> 45717 | B285: ='Monthly DQ Notes'!D298 -> 4699 | C285: ='Monthly DQ Notes'!G298 -> RI | D285: ='Monthly DQ Notes'!F298 -> Data Stabilization Period | E285: ='Monthly DQ Notes'!J298 -> DQ_VOL | F285: ='Monthly DQ Notes'!I298 -> VOL | G285: =A285&"_"&B285&"_"&E285 -> 45717_4699_DQ_VOL | H285: =IF(COUNTIF(G$2:G285,G285)>1,"Duplicate","Single") -> Single
A286: ='Monthly DQ Notes'!A299 -> 45717 | B286: ='Monthly DQ Notes'!D299 -> 4316 | C286: ='Monthly DQ Notes'!G299 -> RI | D286: ='Monthly DQ Notes'!F299 -> Insufficient number of records submitted | E286: ='Monthly DQ Notes'!J299 -> DQ_AMB_VOL | F286: ='Monthly DQ Notes'!I299 -> AMBVOL | G286: =A286&"_"&B286&"_"&E286 -> 45717_4316_DQ_AMB_VOL | H286: =IF(COUNTIF(G$2:G286,G286)>1,"Duplicate","Single") -> Single
A287: ='Monthly DQ Notes'!A300 -> 45717 | B287: ='Monthly DQ Notes'!D300 -> 4109 | C287: ='Monthly DQ Notes'!G300 -> DQN | D287: ='Monthly DQ Notes'!F300 -> System implementation/upgrade and data quality concerns | E287: ='Monthly DQ Notes'!J300 -> DQ_VOL | F287: ='Monthly DQ Notes'!I300 -> VOL | G287: =A287&"_"&B287&"_"&E287 -> 45717_4109_DQ_VOL | H287: =IF(COUNTIF(G$2:G287,G287)>1,"Duplicate","Single") -> Single
A288: ='Monthly DQ Notes'!A301 -> 45717 | B288: ='Monthly DQ Notes'!D301 -> 4256 | C288: ='Monthly DQ Notes'!G301 -> DQN | D288: ='Monthly DQ Notes'!F301 -> System implementation/upgrade and data quality concerns | E288: ='Monthly DQ Notes'!J301 -> DQ_VOL | F288: ='Monthly DQ Notes'!I301 -> VOL | G288: =A288&"_"&B288&"_"&E288 -> 45717_4256_DQ_VOL | H288: =IF(COUNTIF(G$2:G288,G288)>1,"Duplicate","Single") -> Single
A289: ='Monthly DQ Notes'!A302 -> 45717 | B289: ='Monthly DQ Notes'!D302 -> 4186 | C289: ='Monthly DQ Notes'!G302 -> DQN | D289: ='Monthly DQ Notes'!F302 -> System implementation/upgrade and data quality concerns | E289: ='Monthly DQ Notes'!J302 -> DQ_VOL | F289: ='Monthly DQ Notes'!I302 -> VOL | G289: =A289&"_"&B289&"_"&E289 -> 45717_4186_DQ_VOL | H289: =IF(COUNTIF(G$2:G289,G289)>1,"Duplicate","Single") -> Single
A290: ='Monthly DQ Notes'!A303 -> 45717 | B290: ='Monthly DQ Notes'!D303 -> 4832 | C290: ='Monthly DQ Notes'!G303 -> DQN | D290: ='Monthly DQ Notes'!F303 -> System implementation/upgrade and data quality concerns | E290: ='Monthly DQ Notes'!J303 -> DQ_VOL | F290: ='Monthly DQ Notes'!I303 -> VOL | G290: =A290&"_"&B290&"_"&E290 -> 45717_4832_DQ_VOL | H290: =IF(COUNTIF(G$2:G290,G290)>1,"Duplicate","Single") -> Single
A291: ='Monthly DQ Notes'!A304 -> 45717 | B291: ='Monthly DQ Notes'!D304 -> 4829 | C291: ='Monthly DQ Notes'!G304 -> DQN | D291: ='Monthly DQ Notes'!F304 -> System implementation/upgrade and data quality concerns | E291: ='Monthly DQ Notes'!J304 -> DQ_VOL | F291: ='Monthly DQ Notes'!I304 -> VOL | G291: =A291&"_"&B291&"_"&E291 -> 45717_4829_DQ_VOL | H291: =IF(COUNTIF(G$2:G291,G291)>1,"Duplicate","Single") -> Single
A292: ='Monthly DQ Notes'!A305 -> 45717 | B292: ='Monthly DQ Notes'!D305 -> 4092 | C292: ='Monthly DQ Notes'!G305 -> DQN | D292: ='Monthly DQ Notes'!F305 -> System implementation/upgrade and data quality concerns | E292: ='Monthly DQ Notes'!J305 -> DQ_VOL | F292: ='Monthly DQ Notes'!I305 -> VOL | G292: =A292&"_"&B292&"_"&E292 -> 45717_4092_DQ_VOL | H292: =IF(COUNTIF(G$2:G292,G292)>1,"Duplicate","Single") -> Single
A293: ='Monthly DQ Notes'!A306 -> 45717 | B293: ='Monthly DQ Notes'!D306 -> 4092 | C293: ='Monthly DQ Notes'!G306 -> DQN | D293: ='Monthly DQ Notes'!F306 -> System implementation/upgrade and data quality concerns | E293: ='Monthly DQ Notes'!J306 -> DQ_AOT | F293: ='Monthly DQ Notes'!I306 -> P4R_AOT | G293: =A293&"_"&B293&"_"&E293 -> 45717_4092_DQ_AOT | H293: =IF(COUNTIF(G$2:G293,G293)>1,"Duplicate","Single") -> Single
... A1536: ='Monthly DQ Notes'!A1549 -> 43678 | B1536: ='Monthly DQ Notes'!D1549 -> 4147 | C1536: ='Monthly DQ Notes'!G1549 -> RI | D1536: ='Monthly DQ Notes'!F1549 -> Data Quality concerns | E1536: ='Monthly DQ Notes'!J1549 -> DQ_IPB | F1536: ='Monthly DQ Notes'!I1549 -> P4R_IPB | G1536: =A1536&"_"&B1536&"_"&E1536 -> 43678_4147_DQ_IPB | H1536: =IF(COUNTIF(G$2:G1536,G1536)>1,"Duplicate","Single") -> Single

Sheet Quarterly Usability
A1: period | B1: edcd | C1: DQ | D1: notes | E1: type | F1: Indicator Short Name
A2: 45748 | B2: 4699 | C2: RI | D2: Insufficient number of usable records | E2: DQ_PIA | F2: Usability_PIA
A3: 45748 | B3: 4823 | C3: RI | D3: Insufficient number of usable records | E3: DQ_IPB | F3: Usability_IPB
A4: 45748 | B4: 4820 | C4: RI | D4: Insufficient number of usable records | E4: DQ_IPB | F4: Usability_IPB
A5: 45839 | B5: 4251 | C5: RI | D5: Infufficent number of records submitted | E5: DQ_VOL | F5: VOL
A6: 45839 | B6: 4316 | C6: RI | D6: Infufficent number of records submitted | E6: DQ_VOL | F6: VOL
A7: 45839 | B7: 4255 | C7: RI | D7: Insufficient number of usable records | E7: DQ_AOT | F7: Usability_AOT

Sheet YTD Usability
A1: period | B1: edcd | C1: DQ | D1: notes | E1: type | F1: Indicator Short Name
A2: 45748 | B2: 4699 | C2: RI | D2: Insufficient number of usable records | E2: DQ_PIA | F2: Usability_PIA
A3: 45748 | B3: 4823 | C3: RI | D3: Insufficient number of usable records | E3: DQ_IPB | F3: Usability_IPB
A4: 45748 | B4: 4820 | C4: RI | D4: Insufficient number of usable records | E4: DQ_IPB | F4: Usability_IPB

Sheet sitelist
A1: Site Number | B1: ISTCL Site Name | C1: ER Wait Time Hospital | D1: Wave | E1: Hospital Group | F1: Hospital Group Code | G1: Region Name | H1: RegionID | I1: Facility Name | J1: Facility Number | K1: LHIN | L1: LHIN Names | M1: CDU Designation | N1: P4R | O1: Year 12 funded hospitals | S1: Site Number | T1: P4R
A2: 3920 | B2: North Shore Hlth Ntwrk-Blind River Site | C2: Yes | D2: 2 | E2: NA | G2: North East | H2: 36 | I2: North Shore Health Network | J2: 611 | K2: North East | L2: 13 | M2: No | N2: Small | Q2: =N2=R2 -> TRUE | R2: =VLOOKUP($A2,$S:$T,2,FALSE) -> Small | S2: 3920 | T2: Small
A3: 3969 | B3: Hospital for Sick Children (The) | C3: Yes | E3: Paediatric Hospital | F3: 1005 | G3: Toronto | H3: 33 | I3: Hospital for Sick Children (The) | J3: 837 | K3: Toronto Central | L3: 7 | M3: Yes | N3: Large | O3: Yes | Q3: =N3=R3 -> TRUE | R3: =VLOOKUP($A3,$S:$T,2,FALSE) -> Large | S3: 3969 | T3: Large
A4: 3970 | B4: Queensway-Carleton Hospital | C4: Yes | E4: High-Volume Community Hospital | F4: 1003 | G4: East | H4: 34 | I4: Queensway-Carleton Hospital | J4: 777 | K4: Champlain | L4: 11 | M4: Yes | N4: Large | O4: Yes | Q4: =N4=R4 -> TRUE | R4: =VLOOKUP($A4,$S:$T,2,FALSE) -> Large | S4: 3970 | T4: Large
A5: 3972 | B5: Sault Area Hospital-Sault Ste. Marie | C5: Yes | E5: High-Volume Community Hospital | F5: 1003 | G5: North East | H5: 36 | I5: Sault Area Hospital | J5: 965 | K5: North East | L5: 13 | M5: Yes | N5: Large | O5: Yes | Q5: =N5=R5 -> TRUE | R5: =VLOOKUP($A5,$S:$T,2,FALSE) -> Large | S5: 3972 | T5: Large
A6: 3978 | B6: Niagara Health System-Welland County | C6: Yes | E6: Medium-Volume Community Hospital | F6: 1002 | G6: West | H6: 31 | I6: Niagara Health System | J6: 962 | K6: Hamilton Niagara Haldimand Brant | L6: 4 | M6: No | N6: Large | O6: Yes | Q6: =N6=R6 -> TRUE | R6: =VLOOKUP($A6,$S:$T,2,FALSE) -> Large | S6: 3978 | T6: Large
A7: 3982 | B7: Niagara Health System-Greater Niagara | C7: Yes | E7: Medium-Volume Community Hospital | F7: 1002 | G7: West | H7: 31 | I7: Niagara Health System | J7: 962 | K7: Hamilton Niagara Haldimand Brant | L7: 4 | M7: Yes | N7: Large | O7: Yes | Q7: =N7=R7 -> TRUE | R7: =VLOOKUP($A7,$S:$T,2,FALSE) -> Large | S7: 3982 | T7: Large
A8: 3983 | B8: Relig Hosp Of St.Joseph Of Hotel Dieu | C8: No | E8: NA | G8: West | H8: 31 | I8: Relig Hosp Of St.Joseph Of Hotel Dieu | J8: 790 | K8: Hamilton Niagara Haldimand Brant | L8: 4 | M8: No | Q8: =N8=R8 -> TRUE | R8: =VLOOKUP($A8,$S:$T,2,FALSE) | S8: 3983
A9: 3987 | B9: Royal Victoria Regional Health Centre | C9: Yes | E9: High-Volume Community Hospital | F9: 1003 | G9: Central | H9: 32 | I9: Royal Victoria Regional Health Centre | J9: 606 | K9: North Simcoe Muskoka | L9: 12 | M9: Yes | N9: Large | O9: Yes | Q9: =N9=R9 -> TRUE | R9: =VLOOKUP($A9,$S:$T,2,FALSE) -> Large | S9: 3987 | T9: Large
A10: 4001 | B10: Southlake Regional Health Centre | C10: Yes | E10: Very High-Volume Community Hospital | F10: 1004 | G10: Central | H10: 32 | I10: Southlake Regional Health Centre | J10: 736 | K10: Central | L10: 8 | M10: Yes | N10: Large | O10: Yes | Q10: =N10=R10 -> TRUE | R10: =VLOOKUP($A10,$S:$T,2,FALSE) -> Large | S10: 4001 | T10: Large
A11: 4044 | B11: Guelph General Hospital | C11: Yes | E11: High-Volume Community Hospital | F11: 1003 | G11: West | H11: 31 | I11: Guelph General Hospital | J11: 665 | K11: Waterloo Wellington | L11: 3 | M11: Yes | N11: Large | O11: Yes | Q11: =N11=R11 -> TRUE | R11: =VLOOKUP($A11,$S:$T,2,FALSE) -> Large | S11: 4044 | T11: Large
A12: 4045 | B12: Niagara Health System-Marotta Family Hosp | C12: Yes | E12: High-Volume Community Hospital | F12: 1003 | G12: West | H12: 31 | I12: Niagara Health System | J12: 962 | K12: Hamilton Niagara Haldimand Brant | L12: 4 | M12: Yes | N12: Large | O12: Yes | Q12: =N12=R12 -> TRUE | R12: =VLOOKUP($A12,$S:$T,2,FALSE) -> Large | S12: 4045 | T12: Large
A13: 4053 | B13: Espanola General Hospital | C13: Yes | D13: 2 | E13: NA | G13: North East | H13: 36 | I13: Espanola General Hospital | J13: 654 | K13: North East | L13: 13 | M13: No | N13: Small | Q13: =N13=R13 -> TRUE | R13: =VLOOKUP($A13,$S:$T,2,FALSE) -> Small | S13: 4053 | T13: Small
A14: 4054 | B14: St. Joseph's Health Care System-Hamilton | C14: Yes | E14: Teaching Hospital | F14: 1006 | G14: West | H14: 31 | I14: St. Joseph's Health Care System | J14: 674 | K14: Hamilton Niagara Haldimand Brant | L14: 4 | M14: Yes | N14: Large | O14: Yes | Q14: =N14=R14 -> TRUE | R14: =VLOOKUP($A14,$S:$T,2,FALSE) -> Large | S14: 4054 | T14: Large
A15: 4055 | B15: St. Joseph's Community Health Centre | C15: No | E15: Urgent Care Centre | F15: 1007 | G15: West | H15: 31 | I15: St. Joseph's Community Health Centre | J15: 674 | K15: Hamilton Niagara Haldimand Brant | L15: 4 | M15: No | Q15: =N15=R15 -> TRUE | R15: =VLOOKUP($A15,$S:$T,2,FALSE) | S15: 4055
A16: 4057 | B16: Woodstock Hospital | C16: Yes | E16: Medium-Volume Community Hospital | F16: 1002 | G16: West | H16: 31 | I16: Woodstock Hospital | J16: 890 | K16: South West | L16: 2 | M16: No | N16: Large | O16: Yes | Q16: =N16=R16 -> TRUE | R16: =VLOOKUP($A16,$S:$T,2,FALSE) -> Large | S16: 4057 | T16: Large
A17: 4058 | B17: Alexandra Hospital | C17: Yes | E17: Very Low-Volume Community Hospital | F17: 1000 | G17: West | H17: 31 | I17: Alexandra Hospital | J17: 684 | K17: South West | L17: 2 | M17: Yes | N17: Small | O17: No | Q17: =N17=R17 -> TRUE | R17: =VLOOKUP($A17,$S:$T,2,FALSE) -> Small | S17: 4058 | T17: Small
A18: 4063 | B18: Health Sciences North-Laurentian | C18: Yes | E18: Teaching Hospital | F18: 1006 | G18: North East | H18: 36 | I18: Health Sciences North | J18: 959 | K18: North East | L18: 13 | M18: No | N18: Large | O18: Yes | Q18: =N18=R18 -> TRUE | R18: =VLOOKUP($A18,$S:$T,2,FALSE) -> Large | S18: 4063 | T18: Large
A19: 4070 | B19: Haldimand War Memorial Hospital | C19: Yes | E19: Low-Volume Community Hospital | F19: 1001 | G19: West | H19: 31 | I19: Haldimand War Memorial Hospital | J19: 648 | K19: Hamilton Niagara Haldimand Brant | L19: 4 | M19: No | N19: Small | O19: No | Q19: =N19=R19 -> TRUE | R19: =VLOOKUP($A19,$S:$T,2,FALSE) -> Small | S19: 4070 | T19: Small
A20: 4071 | B20: Pembroke Regional Hospital Inc. | C20: Yes | E20: Medium-Volume Community Hospital | F20: 1002 | G20: East | H20: 34 | I20: Pembroke Regional Hospital Incorporated | J20: 763 | K20: Champlain | L20: 11 | M20: No | N20: Large | O20: Yes | Q20: =N20=R20 -> TRUE | R20: =VLOOKUP($A20,$S:$T,2,FALSE) -> Large | S20: 4071 | T20: Large
A21: 4073 | B21: Peterborough Regional Health Centre | C21: Yes | E21: Very High-Volume Community Hospital | F21: 1004 | G21: East | H21: 34 | I21: Peterborough Regional Health Centre | J21: 771 | K21: Central East | L21: 9 | M21: Yes | N21: Large | O21: Yes | Q21: =N21=R21 -> TRUE | R21: =VLOOKUP($A21,$S:$T,2,FALSE) -> Large | S21: 4073 | T21: Large
A22: 4076 | B22: St. Thomas-Elgin General Hospital | C22: Yes | E22: High-Volume Community Hospital | F22: 1003 | G22: West | H22: 31 | I22: St. Thomas-Elgin General Hospital | J22: 793 | K22: South West | L22: 2 | M22: No | N22: Large | O22: Yes | Q22: =N22=R22 -> TRUE | R22: =VLOOKUP($A22,$S:$T,2,FALSE) -> Large | S22: 4076 | T22: Large
A23: 4077 | B23: Campbellford Memorial Hospital | C23: Yes | E23: Low-Volume Community Hospital | F23: 1001 | G23: East | H23: 34 | I23: Campbellford Memorial Hospital | J23: 624 | K23: Central East | L23: 9 | M23: No | N23: Small | O23: No | Q23: =N23=R23 -> TRUE | R23: =VLOOKUP($A23,$S:$T,2,FALSE) -> Small | S23: 4077 | T23: Small
A24: 4078 | B24: South Huron Hospital | C24: Yes | D24: 2 | E24: Very Low-Volume Community Hospital | F24: 1000 | G24: West | H24: 31 | I24: South Huron Hospital | J24: 655 | K24: South West | L24: 2 | M24: No | N24: Small | Q24: =N24=R24 -> TRUE | R24: =VLOOKUP($A24,$S:$T,2,FALSE) -> Small | S24: 4078 | T24: Small
A25: 4079 | B25: Ottawa Hospital (The)-Civic site | C25: Yes | E25: Teaching Hospital | F25: 1006 | G25: East | H25: 34 | I25: Ottawa Hospital (The) | J25: 958 | K25: Champlain | L25: 11 | M25: Yes | N25: Large | O25: Yes | Q25: =N25=R25 -> TRUE | R25: =VLOOKUP($A25,$S:$T,2,FALSE) -> Large | S25: 4079 | T25: Large
A26: 4080 | B26: Ottawa Hospital ( The )-Riverside Site | C26: No | E26: NA | G26: East | H26: 34 | I26: Ottawa Hospital (The) | J26: 958 | K26: Champlain | L26: 11 | M26: No | Q26: =N26=R26 -> TRUE | R26: =VLOOKUP($A26,$S:$T,2,FALSE) | S26: 4080
A27: 4081 | B27: South Bruce Grey Health Centre-Durham | C27: Yes | E27: Very Low-Volume Community Hospital | F27: 1000 | G27: West | H27: 31 | I27: South Bruce Grey Health Centre | J27: 946 | K27: South West | L27: 2 | M27: No | N27: Small | O27: No | Q27: =N27=R27 -> TRUE | R27: =VLOOKUP($A27,$S:$T,2,FALSE) -> Small | S27: 4081 | T27: Small
A28: 4082 | B28: Alexandra Marine and General Hospital | C28: Yes | D28: 2 | E28: NA | G28: West | H28: 31 | I28: Alexandra Marine And General Hospital | J28: 663 | K28: South West | L28: 2 | M28: No | N28: Small | Q28: =N28=R28 -> TRUE | R28: =VLOOKUP($A28,$S:$T,2,FALSE) -> Small | S28: 4082 | T28: Small
A29: 4085 | B29: Ottawa Hospital (The)-General site | C29: Yes | E29: Teaching Hospital | F29: 1006 | G29: East | H29: 34 | I29: Ottawa Hospital (The) | J29: 958 | K29: Champlain | L29: 11 | M29: Yes | N29: Large | O29: Yes | Q29: =N29=R29 -> TRUE | R29: =VLOOKUP($A29,$S:$T,2,FALSE) -> Large | S29: 4085 | T29: Large
A30: 4088 | B30: West Haldimand General Hospital | C30: Yes | D30: 2 | E30: NA | G30: West | H30: 31 | I30: West Haldimand General Hospital | J30: 734 | K30: Hamilton Niagara Haldimand Brant | L30: 4 | M30: No | N30: Small | Q30: =N30=R30 -> TRUE | R30: =VLOOKUP($A30,$S:$T,2,FALSE) -> Small | S30: 4088 | T30: Small
A31: 4091 | B31: Children's Hospital of Eastern Ontario | C31: Yes | E31: Paediatric Hospital | F31: 1005 | G31: East | H31: 34 | I31: Children's Hospital of Eastern Ontario | J31: 751 | K31: Champlain | L31: 11 | M31: No | N31: Large | O31: Yes | Q31: =N31=R31 -> TRUE | R31: =VLOOKUP($A31,$S:$T,2,FALSE) -> Large | S31: 4091 | T31: Large
A32: 4092 | B32: Lennox and Addington County Gen Hospital | C32: Yes | E32: Low-Volume Community Hospital | F32: 1001 | G32: East | H32: 34 | I32: Lennox And Addington County General Hospital | J32: 592 | K32: South East | L32: 10 | M32: No | N32: Small | O32: No | Q32: =N32=R32 -> TRUE | R32: =VLOOKUP($A32,$S:$T,2,FALSE) -> Small | S32: 4092 | T32: Small
A33: 4093 | B33: Tillsonburg District Memorial Hospital | C33: Yes | E33: Low-Volume Community Hospital | F33: 1001 | G33: West | H33: 31 | I33: Tillsonburg District Memorial Hospital | J33: 824 | K33: South West | L33: 2 | M33: Yes | N33: Small | O33: No | Q33: =N33=R33 -> TRUE | R33: =VLOOKUP($A33,$S:$T,2,FALSE) -> Small | S33: 4093 | T33: Small
A34: 4094 | B34: South Bruce Grey Health Centre-Kincardine | C34: Yes | E34: Very Low-Volume Community Hospital | F34: 1000 | G34: West | H34: 31 | I34: South Bruce Grey Health Centre | J34: 946 | K34: South West | L34: 2 | M34: No | N34: Small | O34: No | Q34: =N34=R34 -> TRUE | R34: =VLOOKUP($A34,$S:$T,2,FALSE) -> Small | S34: 4094 | T34: Small
A35: 4095 | B35: South Bruce Grey Health Centre-Walkerton | C35: Yes | E35: Very Low-Volume Community Hospital | F35: 1000 | G35: West | H35: 31 | I35: South Bruce Grey Health Centre | J35: 946 | K35: South West | L35: 2 | M35: No | N35: Small | O35: No | Q35: =N35=R35 -> TRUE | R35: =VLOOKUP($A35,$S:$T,2,FALSE) -> Small | S35: 4095 | T35: Small
A36: 4096 | B36: South Bruce Grey Health Centre-Chesley | C36: Yes | E36: Under 7000 ED Visits | F36: 1008 | G36: West | H36: 31 | I36: South Bruce Grey Health Centre | J36: 946 | K36: South West | L36: 2 | M36: No | N36: Small | O36: No | Q36: =N36=R36 -> TRUE | R36: =VLOOKUP($A36,$S:$T,2,FALSE) -> Small | S36: 4096 | T36: Small
A37: 4097 | B37: Quinte Health-Belleville | C37: Yes | E37: Medium-Volume Community Hospital | F37: 1002 | G37: East | H37: 34 | I37: Quinte Health | J37: 957 | K37: South East | L37: 10 | M37: Yes | N37: Large | O37: Yes | Q37: =N37=R37 -> TRUE | R37: =VLOOKUP($A37,$S:$T,2,FALSE) -> Large | S37: 4097 | T37: Large
A38: 4098 | B38: Quinte Health-Bancroft | C38: Yes | E38: Very Low-Volume Community Hospital | F38: 1000 | G38: East | H38: 34 | I38: Quinte Health | J38: 957 | K38: South East | L38: 10 | M38: No | N38: Small | O38: No | Q38: =N38=R38 -> TRUE | R38: =VLOOKUP($A38,$S:$T,2,FALSE) -> Small | S38: 4098 | T38: Small
A39: 4099 | B39: Quinte Health-Trenton | C39: Yes | E39: Medium-Volume Community Hospital | F39: 1002 | G39: East | H39: 34 | I39: Quinte Health | J39: 957 | K39: South East | L39: 10 | M39: Yes | N39: Large | O39: Yes | Q39: =N39=R39 -> TRUE | R39: =VLOOKUP($A39,$S:$T,2,FALSE) -> Large | S39: 4099 | T39: Large
A40: 4100 | B40: Quinte Health-Picton | C40: Yes | E40: Low-Volume Community Hospital | F40: 1001 | G40: East | H40: 34 | I40: Quinte Health | J40: 957 | K40: South East | L40: 10 | M40: No | N40: Small | O40: No | Q40: =N40=R40 -> TRUE | R40: =VLOOKUP($A40,$S:$T,2,FALSE) -> Small | S40: 4100 | T40: Small
...
